Workbook

Sheet Reklamácie
A1: ID reklamácie | B1: Dátum prijatia | C1: Meno zákazníka | D1: Mesto | E1: Kontakt | F1: Číslo faktúry | G1: Produkt/služba | H1: Popis reklamácie | I1: Typ reklamácie | J1: Stav | K1: Zodpovedný pracovník | L1: Dátum vybavenia | M1: Lehota na vybavenie (dni) | N1: Dni vybavenia | O1: Dodržaná lehota | P1: Výsledok reklamácie | Q1: Hodnota reklamácie bez DPH | R1: DPH | S1: Hodnota s DPH | T1: Poznámka | U1: Sadzba DPH | V1: Typ | W1: Sadzba DPH
A2: REK-2026-001 | B2: 46030 | C2: Ján Novák | D2: Bratislava | E2: jan.novak@email.sk | F2: FA-2026-0108 | G2: Mobilný telefón Orion X5 | H2: Telefón sa samovoľne vypína pri používaní. | I2: Tovar | J2: Uzavretá | K2: Lucia Kováčová | L2: 46042 | M2: 30 | N2: =IF(A2="","",IFERROR(IF(OR(B2="",L2=""),"",L2-B2),"")) | O2: =IF(A2="","",IFERROR(IF(B2="","",IF(L2="","V riešení",IF(N2<=IF(M2="",30,M2),"ÁNO","NIE"))),"")) | P2: Oprava | Q2: 189.9 | R2: =IF(Q2="","",IFERROR(Q2*VLOOKUP(U2,'Reklamácie'!$V$2:$W$4,2,FALSE),"")) | S2: =IF(Q2="","",IFERROR(Q2+R2,"")) | T2: Zariadenie opravené v autorizovanom servise. | U2: Štandardná | V2: Štandardná | W2: 0.2
A3: REK-2026-002 | B3: 46069 | C3: Mária Kováčová | D3: Košice | E3: 0907 224 615 | F3: FA-2026-0216 | G3: Kuchynský robot Domus | H3: Počas miešania sa uvoľňuje nádoba. | I3: Tovar | J3: Uznaná | K3: Peter Malík | L3: 46093 | M3: 30 | N3: =IF(A3="","",IFERROR(IF(OR(B3="",L3=""),"",L3-B3),"")) | O3: =IF(A3="","",IFERROR(IF(B3="","",IF(L3="","V riešení",IF(N3<=IF(M3="",30,M3),"ÁNO","NIE"))),"")) | P3: Výmena | Q3: 1250 | R3: =IF(Q3="","",IFERROR(Q3*VLOOKUP(U3,'Reklamácie'!$V$2:$W$4,2,FALSE),"")) | S3: =IF(Q3="","",IFERROR(Q3+R3,"")) | T3: Schválená výmena za nový kus. | U3: Štandardná | V3: Znížená | W3: 0.1
A4: REK-2026-003 | B4: 46120 | C4: Peter Horváth | D4: Žilina | E4: peter.horvath@email.sk | F4: FA-2026-0408 | G4: Montáž kuchynskej linky | H4: Nesprávne vyrovnané dvierka kuchynskej linky. | I4: Služba | J4: Zamietnutá | K4: Lucia Kováčová | L4: 46157 | M4: 30 | N4: =IF(A4="","",IFERROR(IF(OR(B4="",L4=""),"",L4-B4),"")) | O4: =IF(A4="","",IFERROR(IF(B4="","",IF(L4="","V riešení",IF(N4<=IF(M4="",30,M4),"ÁNO","NIE"))),"")) | P4: Zamietnutie | Q4: 420 | R4: =IF(Q4="","",IFERROR(Q4*VLOOKUP(U4,'Reklamácie'!$V$2:$W$4,2,FALSE),"")) | S4: =IF(Q4="","",IFERROR(Q4+R4,"")) | T4: Závada vznikla následnou úpravou zákazníkom. | U4: Štandardná | V4: Osobitná | W4: 0.05
A5: REK-2026-004 | B5: 46185 | C5: Zuzana Tóthová | D5: Nitra | E5: 0905 618 773 | F5: FA-2026-0612 | G5: Smart televízor Vision 55 | H5: Na obrazovke sa objavili zvislé pruhy. | I5: Tovar | J5: Uzavretá | K5: Martin Šimek | L5: 46198 | M5: 30 | N5: =IF(A5="","",IFERROR(IF(OR(B5="",L5=""),"",L5-B5),"")) | O5: =IF(A5="","",IFERROR(IF(B5="","",IF(L5="","V riešení",IF(N5<=IF(M5="",30,M5),"ÁNO","NIE"))),"")) | P5: Oprava | Q5: 699 | R5: =IF(Q5="","",IFERROR(Q5*VLOOKUP(U5,'Reklamácie'!$V$2:$W$4,2,FALSE),"")) | S5: =IF(Q5="","",IFERROR(Q5+R5,"")) | T5: Vymenený zobrazovací panel. | U5: Štandardná
A6: REK-2026-005 | B6: 46221 | C6: Martin Baláž | D6: Prešov | E6: martin.balaz@email.sk | F6: FA-2026-0718 | G6: Doručenie kancelárskeho kresla | H6: Balík bol doručený s poškodenou opierkou. | I6: Doprava | J6: V riešení | K6: Peter Malík | M6: 30 | N6: =IF(A6="","",IFERROR(IF(OR(B6="",L6=""),"",L6-B6),"")) | O6: =IF(A6="","",IFERROR(IF(B6="","",IF(L6="","V riešení",IF(N6<=IF(M6="",30,M6),"ÁNO","NIE"))),"")) | Q6: 630 | R6: =IF(Q6="","",IFERROR(Q6*VLOOKUP(U6,'Reklamácie'!$V$2:$W$4,2,FALSE),"")) | S6: =IF(Q6="","",IFERROR(Q6+R6,"")) | T6: Čaká sa na stanovisko prepravcu. | U6: Štandardná
A7: REK-2026-006 | B7: 46239 | C7: Katarína Hudáková | D7: Banská Bystrica | E7: 0908 334 901 | F7: FA-2026-0805 | G7: Práčka AquaClean 7 | H7: Práčka nevypúšťa vodu po pracom cykle. | I7: Tovar | J7: Uzavretá | K7: Martin Šimek | L7: 46256 | M7: 30 | N7: =IF(A7="","",IFERROR(IF(OR(B7="",L7=""),"",L7-B7),"")) | O7: =IF(A7="","",IFERROR(IF(B7="","",IF(L7="","V riešení",IF(N7<=IF(M7="",30,M7),"ÁNO","NIE"))),"")) | P7: Oprava | Q7: 980 | R7: =IF(Q7="","",IFERROR(Q7*VLOOKUP(U7,'Reklamácie'!$V$2:$W$4,2,FALSE),"")) | S7: =IF(Q7="","",IFERROR(Q7+R7,"")) | T7: Vymenené čerpadlo a vykonaná skúška. | U7: Štandardná
A8: REK-2026-007 | B8: 46255 | C8: Lukáš Varga | D8: Trnava | E8: lukas.varga@email.sk | F8: FA-2026-0821 | G8: Slúchadlá SoundPro | H8: Jedno slúchadlo sa po nabití nepripojí. | I8: Tovar | J8: Nová | K8: Lucia Kováčová | M8: 30 | N8: =IF(A8="","",IFERROR(IF(OR(B8="",L8=""),"",L8-B8),"")) | O8: =IF(A8="","",IFERROR(IF(B8="","",IF(L8="","V riešení",IF(N8<=IF(M8="",30,M8),"ÁNO","NIE"))),"")) | Q8: 35 | R8: =IF(Q8="","",IFERROR(Q8*VLOOKUP(U8,'Reklamácie'!$V$2:$W$4,2,FALSE),"")) | S8: =IF(Q8="","",IFERROR(Q8+R8,"")) | T8: Reklamácia prijatá, čaká sa na diagnostiku. | U8: Štandardná
A9: REK-2026-008 | B9: 46267 | C9: Eva Šimková | D9: Trenčín | E9: 0904 882 410 | F9: FA-2026-0902 | G9: Internetové pripojenie FiberNet | H9: Opakované výpadky pripojenia vo večerných hodinách. | I9: Služba | J9: Uznaná | K9: Peter Malík | L9: 46280 | M9: 30 | N9: =IF(A9="","",IFERROR(IF(OR(B9="",L9=""),"",L9-B9),"")) | O9: =IF(A9="","",IFERROR(IF(B9="","",IF(L9="","V riešení",IF(N9<=IF(M9="",30,M9),"ÁNO","NIE"))),"")) | P9: Zľava | Q9: 145 | R9: =IF(Q9="","",IFERROR(Q9*VLOOKUP(U9,'Reklamácie'!$V$2:$W$4,2,FALSE),"")) | S9: =IF(Q9="","",IFERROR(Q9+R9,"")) | T9: Schválená zľava za obdobie s nedostupnou službou. | U9: Štandardná
A10: REK-2026-009 | B10: 46279 | C10: Tomáš Benko | D10: Poprad | E10: tomas.benko@email.sk | F10: FA-2026-0914 | G10: Turistický batoh Trail 45 | H10: Po prvom použití sa roztrhol ramenný popruh. | I10: Tovar | J10: V riešení | K10: Martin Šimek | M10: 30 | N10: =IF(A10="","",IFERROR(IF(OR(B10="",L10=""),"",L10-B10),"")) | O10: =IF(A10="","",IFERROR(IF(B10="","",IF(L10="","V riešení",IF(N10<=IF(M10="",30,M10),"ÁNO","NIE"))),"")) | Q10: 269 | R10: =IF(Q10="","",IFERROR(Q10*VLOOKUP(U10,'Reklamácie'!$V$2:$W$4,2,FALSE),"")) | S10: =IF(Q10="","",IFERROR(Q10+R10,"")) | T10: Čaká sa na doručenie produktu do servisu. | U10: Štandardná
N11: =IF(A11="","",IFERROR(IF(OR(B11="",L11=""),"",L11-B11),"")) | O11: =IF(A11="","",IFERROR(IF(B11="","",IF(L11="","V riešení",IF(N11<=IF(M11="",30,M11),"ÁNO","NIE"))),"")) | R11: =IF(Q11="","",IFERROR(Q11*VLOOKUP(U11,'Reklamácie'!$V$2:$W$4,2,FALSE),"")) | S11: =IF(Q11="","",IFERROR(Q11+R11,""))
N12: =IF(A12="","",IFERROR(IF(OR(B12="",L12=""),"",L12-B12),"")) | O12: =IF(A12="","",IFERROR(IF(B12="","",IF(L12="","V riešení",IF(N12<=IF(M12="",30,M12),"ÁNO","NIE"))),"")) | R12: =IF(Q12="","",IFERROR(Q12*VLOOKUP(U12,'Reklamácie'!$V$2:$W$4,2,FALSE),"")) | S12: =IF(Q12="","",IFERROR(Q12+R12,""))
N13: =IF(A13="","",IFERROR(IF(OR(B13="",L13=""),"",L13-B13),"")) | O13: =IF(A13="","",IFERROR(IF(B13="","",IF(L13="","V riešení",IF(N13<=IF(M13="",30,M13),"ÁNO","NIE"))),"")) | R13: =IF(Q13="","",IFERROR(Q13*VLOOKUP(U13,'Reklamácie'!$V$2:$W$4,2,FALSE),"")) | S13: =IF(Q13="","",IFERROR(Q13+R13,""))
N14: =IF(A14="","",IFERROR(IF(OR(B14="",L14=""),"",L14-B14),"")) | O14: =IF(A14="","",IFERROR(IF(B14="","",IF(L14="","V riešení",IF(N14<=IF(M14="",30,M14),"ÁNO","NIE"))),"")) | R14: =IF(Q14="","",IFERROR(Q14*VLOOKUP(U14,'Reklamácie'!$V$2:$W$4,2,FALSE),"")) | S14: =IF(Q14="","",IFERROR(Q14+R14,""))
N15: =IF(A15="","",IFERROR(IF(OR(B15="",L15=""),"",L15-B15),"")) | O15: =IF(A15="","",IFERROR(IF(B15="","",IF(L15="","V riešení",IF(N15<=IF(M15="",30,M15),"ÁNO","NIE"))),"")) | R15: =IF(Q15="","",IFERROR(Q15*VLOOKUP(U15,'Reklamácie'!$V$2:$W$4,2,FALSE),"")) | S15: =IF(Q15="","",IFERROR(Q15+R15,""))
N16: =IF(A16="","",IFERROR(IF(OR(B16="",L16=""),"",L16-B16),"")) | O16: =IF(A16="","",IFERROR(IF(B16="","",IF(L16="","V riešení",IF(N16<=IF(M16="",30,M16),"ÁNO","NIE"))),"")) | R16: =IF(Q16="","",IFERROR(Q16*VLOOKUP(U16,'Reklamácie'!$V$2:$W$4,2,FALSE),"")) | S16: =IF(Q16="","",IFERROR(Q16+R16,""))
N17: =IF(A17="","",IFERROR(IF(OR(B17="",L17=""),"",L17-B17),"")) | O17: =IF(A17="","",IFERROR(IF(B17="","",IF(L17="","V riešení",IF(N17<=IF(M17="",30,M17),"ÁNO","NIE"))),"")) | R17: =IF(Q17="","",IFERROR(Q17*VLOOKUP(U17,'Reklamácie'!$V$2:$W$4,2,FALSE),"")) | S17: =IF(Q17="","",IFERROR(Q17+R17,""))
N18: =IF(A18="","",IFERROR(IF(OR(B18="",L18=""),"",L18-B18),"")) | O18: =IF(A18="","",IFERROR(IF(B18="","",IF(L18="","V riešení",IF(N18<=IF(M18="",30,M18),"ÁNO","NIE"))),"")) | R18: =IF(Q18="","",IFERROR(Q18*VLOOKUP(U18,'Reklamácie'!$V$2:$W$4,2,FALSE),"")) | S18: =IF(Q18="","",IFERROR(Q18+R18,""))
N19: =IF(A19="","",IFERROR(IF(OR(B19="",L19=""),"",L19-B19),"")) | O19: =IF(A19="","",IFERROR(IF(B19="","",IF(L19="","V riešení",IF(N19<=IF(M19="",30,M19),"ÁNO","NIE"))),"")) | R19: =IF(Q19="","",IFERROR(Q19*VLOOKUP(U19,'Reklamácie'!$V$2:$W$4,2,FALSE),"")) | S19: =IF(Q19="","",IFERROR(Q19+R19,""))
N20: =IF(A20="","",IFERROR(IF(OR(B20="",L20=""),"",L20-B20),"")) | O20: =IF(A20="","",IFERROR(IF(B20="","",IF(L20="","V riešení",IF(N20<=IF(M20="",30,M20),"ÁNO","NIE"))),"")) | R20: =IF(Q20="","",IFERROR(Q20*VLOOKUP(U20,'Reklamácie'!$V$2:$W$4,2,FALSE),"")) | S20: =IF(Q20="","",IFERROR(Q20+R20,""))
N21: =IF(A21="","",IFERROR(IF(OR(B21="",L21=""),"",L21-B21),"")) | O21: =IF(A21="","",IFERROR(IF(B21="","",IF(L21="","V riešení",IF(N21<=IF(M21="",30,M21),"ÁNO","NIE"))),"")) | R21: =IF(Q21="","",IFERROR(Q21*VLOOKUP(U21,'Reklamácie'!$V$2:$W$4,2,FALSE),"")) | S21: =IF(Q21="","",IFERROR(Q21+R21,""))
N22: =IF(A22="","",IFERROR(IF(OR(B22="",L22=""),"",L22-B22),"")) | O22: =IF(A22="","",IFERROR(IF(B22="","",IF(L22="","V riešení",IF(N22<=IF(M22="",30,M22),"ÁNO","NIE"))),"")) | R22: =IF(Q22="","",IFERROR(Q22*VLOOKUP(U22,'Reklamácie'!$V$2:$W$4,2,FALSE),"")) | S22: =IF(Q22="","",IFERROR(Q22+R22,""))
... N101: =IF(A101="","",IFERROR(IF(OR(B101="",L101=""),"",L101-B101),"")) | O101: =IF(A101="","",IFERROR(IF(B101="","",IF(L101="","V riešení",IF(N101<=IF(M101="",30,M101),"ÁNO","NIE"))),"")) | R101: =IF(Q101="","",IFERROR(Q101*VLOOKUP(U101,'Reklamácie'!$V$2:$W$4,2,FALSE),"")) | S101: =IF(Q101="","",IFERROR(Q101+R101,""))

Sheet Prehľad
A1: Prehľad reklamácií – rok 2026
A3: Celkový počet reklamácií | C3: Počet uzavretých reklamácií | E3: Počet reklamácií v riešení | G3: Podiel uznaných reklamácií
A4: =COUNTA('Reklamácie'!$A$2:$A$101) | C4: =COUNTIF('Reklamácie'!$J$2:$J$101,"Uzavretá") | E4: =COUNTIF('Reklamácie'!$J$2:$J$101,"V riešení") | G4: =IFERROR(COUNTIF('Reklamácie'!$J$2:$J$101,"Uznaná")/COUNTA('Reklamácie'!$A$2:$A$101),0)
A6: Priemerná doba vybavenia | C6: Celková hodnota reklamácií s DPH | E6: Podiel reklamácií vybavených v lehote
A7: =IFERROR(AVERAGE('Reklamácie'!$N$2:$N$101),0) | C7: =SUM('Reklamácie'!$S$2:$S$101) | E7: =IFERROR(COUNTIF('Reklamácie'!$O$2:$O$101,"ÁNO")/(COUNTIF('Reklamácie'!$O$2:$O$101,"ÁNO")+COUNTIF('Reklamácie'!$O$2:$O$101,"NIE")),0)
A10: Stav | B10: Počet | D10: Typ reklamácie | E10: Počet | G10: Mesto | H10: Počet
A11: Nová | B11: =COUNTIF('Reklamácie'!$J$2:$J$101,A11) | D11: Tovar | E11: =COUNTIF('Reklamácie'!$I$2:$I$101,D11) | G11: Bratislava | H11: =COUNTIF('Reklamácie'!$D$2:$D$101,G11)
A12: V riešení | B12: =COUNTIF('Reklamácie'!$J$2:$J$101,A12) | D12: Služba | E12: =COUNTIF('Reklamácie'!$I$2:$I$101,D12) | G12: Košice | H12: =COUNTIF('Reklamácie'!$D$2:$D$101,G12)
A13: Uznaná | B13: =COUNTIF('Reklamácie'!$J$2:$J$101,A13) | D13: Doprava | E13: =COUNTIF('Reklamácie'!$I$2:$I$101,D13) | G13: Žilina | H13: =COUNTIF('Reklamácie'!$D$2:$D$101,G13)
A14: Zamietnutá | B14: =COUNTIF('Reklamácie'!$J$2:$J$101,A14) | D14: Fakturácia | E14: =COUNTIF('Reklamácie'!$I$2:$I$101,D14) | G14: Nitra | H14: =COUNTIF('Reklamácie'!$D$2:$D$101,G14)
A15: Uzavretá | B15: =COUNTIF('Reklamácie'!$J$2:$J$101,A15) | G15: Prešov | H15: =COUNTIF('Reklamácie'!$D$2:$D$101,G15)
G16: Banská Bystrica | H16: =COUNTIF('Reklamácie'!$D$2:$D$101,G16)
G17: Trnava | H17: =COUNTIF('Reklamácie'!$D$2:$D$101,G17)
G18: Trenčín | H18: =COUNTIF('Reklamácie'!$D$2:$D$101,G18)
G19: Poprad | H19: =COUNTIF('Reklamácie'!$D$2:$D$101,G19)

Sheet Pokyny
A1: Pokyny k evidencii reklamácií
A3: Oblasť | B3: Pokyn
A4: Hárok Reklamácie | B4: Hlavná evidencia reklamácií. Každú novú reklamáciu zapisujte do nového riadku v pripravenej tabuľke.
A5: ID reklamácie | B5: Použite jedinečný identifikátor v tvare REK-2026-XXX, aby bolo možné reklamáciu jednoducho vyhľadať a prepojiť s dokumentáciou.
A6: Vstupné údaje | B6: Žlté bunky #FFFBEB sú určené na zadávanie a úpravu údajov. Ide najmä o údaje zákazníka, faktúru, stav, lehotu, výsledok a hodnotu reklamácie.
A7: Výpočty | B7: Stĺpce Dni vybavenia, Dodržaná lehota, DPH a Hodnota s DPH obsahujú vzorce. Tieto bunky neupravujte ručne.
A8: Lehota | B8: Zelená farba označuje splnenú lehotu. Červená farba označuje prekročenú lehotu. Ak lehota nie je zadaná, výpočet pri vybavenej reklamácii používa predvolených 30 dní.
A9: Sadzba DPH | B9: V stĺpci Sadzba DPH vyberte sadzbu z rozbaľovacieho zoznamu. Číselník sadzieb je umiestnený vpravo od hlavnej tabuľky.
A10: Hárok Prehľad | B10: Dashboard zobrazuje kľúčové ukazovatele, súhrny podľa stavu, typu reklamácie a mesta, ako aj grafy pre manažérske vyhodnotenie.
A11: GDPR a interné pravidlá | B11: Reklamácie evidujte v súlade s internými pravidlami organizácie a zásadami ochrany osobných údajov podľa GDPR.
A12: Právne overenie | B12: Pri právnom posúdení vždy overte aktuálne požiadavky Slovenskej obchodnej inšpekcie a platné lehoty podľa typu predaja.
