Workbook

Sheet Faktúry
A1: Číslo faktúry | B1: Dátum vystavenia | C1: Dátum splatnosti | D1: Dátum úhrady | E1: Stav | F1: Odberateľ | G1: IČO odberateľa | H1: Mesto | I1: Popis služby | J1: Sadzba DPH | K1: Základ bez DPH | L1: DPH | M1: Celkom s DPH | N1: Uhradené | O1: Neuhradené | P1: Spôsob úhrady | Q1: Poznámka
A2: 2026-001 | B2: 46037 | C2: 46051 | D2: 46043 | E2: =IF(OR($A2="",$M2=""),"",IF($N2>=$M2,"Uhradená",IF(TODAY()>$C2,"Po splatnosti","Vystavená"))) | F2: Novák Consulting s.r.o. | G2: 51234567 | H2: Bratislava | I2: Účtovné poradenstvo | J2: 0.2 | K2: 1450 | L2: =IF(OR($A2="",$K2="",$J2=""),"",$K2*$J2) | M2: =IF(OR($A2="",$K2="",$L2=""),"",$K2+$L2) | N2: 1740 | O2: =IF(OR($A2="",$M2=""),"",$M2-IF($N2="",0,$N2)) | P2: Bankový prevod | Q2: Kontrola účtovných dokladov
A3: 2026-002 | B3: 46067 | C3: 46081 | D3: 46073 | E3: =IF(OR($A3="",$M3=""),"",IF($N3>=$M3,"Uhradená",IF(TODAY()>$C3,"Po splatnosti","Vystavená"))) | F3: Kováčová Marketing | G3: 53218764 | H3: Košice | I3: Tvorba webu | J3: 0.2 | K3: 2800 | L3: =IF(OR($A3="",$K3="",$J3=""),"",$K3*$J3) | M3: =IF(OR($A3="",$K3="",$L3=""),"",$K3+$L3) | N3: 3360 | O3: =IF(OR($A3="",$M3=""),"",$M3-IF($N3="",0,$N3)) | P3: Bankový prevod | Q3: Zálohová faktúra uhradená
A4: 2026-003 | B4: 46097 | C4: 46111 | D4: 46103 | E4: =IF(OR($A4="",$M4=""),"",IF($N4>=$M4,"Uhradená",IF(TODAY()>$C4,"Po splatnosti","Vystavená"))) | F4: Horváth IT Solutions s.r.o. | G4: 47896521 | H4: Žilina | I4: IT konzultácie | J4: 0.2 | K4: 2200 | L4: =IF(OR($A4="",$K4="",$J4=""),"",$K4*$J4) | M4: =IF(OR($A4="",$K4="",$L4=""),"",$K4+$L4) | N4: 2640 | O4: =IF(OR($A4="",$M4=""),"",$M4-IF($N4="",0,$N4)) | P4: Bankový prevod | Q4: Mesačný servis
A5: 2026-004 | B5: 46127 | C5: 46141 | D5: 46133 | E5: =IF(OR($A5="",$M5=""),"",IF($N5>=$M5,"Uhradená",IF(TODAY()>$C5,"Po splatnosti","Vystavená"))) | F5: Tóth Design | G5: 52987413 | H5: Nitra | I5: Grafické práce | J5: 0.1 | K5: 950 | L5: =IF(OR($A5="",$K5="",$J5=""),"",$K5*$J5) | M5: =IF(OR($A5="",$K5="",$L5=""),"",$K5+$L5) | N5: 1045 | O5: =IF(OR($A5="",$M5=""),"",$M5-IF($N5="",0,$N5)) | P5: Bankový prevod | Q5: Návrh firemnej identity
A6: 2026-005 | B6: 46157 | C6: 46171 | D6: 46163 | E6: =IF(OR($A6="",$M6=""),"",IF($N6>=$M6,"Uhradená",IF(TODAY()>$C6,"Po splatnosti","Vystavená"))) | F6: Mária Kováčová | G6: 54123698 | H6: Prešov | I6: Marketingové služby | J6: 0.2 | K6: 1750 | L6: =IF(OR($A6="",$K6="",$J6=""),"",$K6*$J6) | M6: =IF(OR($A6="",$K6="",$L6=""),"",$K6+$L6) | N6: 2100 | O6: =IF(OR($A6="",$M6=""),"",$M6-IF($N6="",0,$N6)) | P6: Bankový prevod | Q6: Online kampaň
A7: 2026-006 | B7: 46217 | C7: 46231 | D7: 46223 | E7: =IF(OR($A7="",$M7=""),"",IF($N7>=$M7,"Uhradená",IF(TODAY()>$C7,"Po splatnosti","Vystavená"))) | F7: Peter Horváth | G7: 51874632 | H7: Trnava | I7: Odborné školenie | J7: 0.2 | K7: 780 | L7: =IF(OR($A7="",$K7="",$J7=""),"",$K7*$J7) | M7: =IF(OR($A7="",$K7="",$L7=""),"",$K7+$L7) | N7: 936 | O7: =IF(OR($A7="",$M7=""),"",$M7-IF($N7="",0,$N7)) | P7: Bankový prevod | Q7: Školenie zamestnancov
A8: 2026-007 | B8: 46247 | C8: 46267 | E8: =IF(OR($A8="",$M8=""),"",IF($N8>=$M8,"Uhradená",IF(TODAY()>$C8,"Po splatnosti","Vystavená"))) | F8: Zuzana Tóthová | G8: 53712489 | H8: Banská Bystrica | I8: Administratívna podpora | J8: 0.05 | K8: 640 | L8: =IF(OR($A8="",$K8="",$J8=""),"",$K8*$J8) | M8: =IF(OR($A8="",$K8="",$L8=""),"",$K8+$L8) | O8: =IF(OR($A8="",$M8=""),"",$M8-IF($N8="",0,$N8)) | P8: Bankový prevod | Q8: Faktúra po splatnosti
A9: 2026-008 | B9: 46272 | C9: 46290 | E9: =IF(OR($A9="",$M9=""),"",IF($N9>=$M9,"Uhradená",IF(TODAY()>$C9,"Po splatnosti","Vystavená"))) | F9: Martin Novák | G9: 52639841 | H9: Bratislava | I9: Marketingové služby | J9: 0.2 | K9: 1260 | L9: =IF(OR($A9="",$K9="",$J9=""),"",$K9*$J9) | M9: =IF(OR($A9="",$K9="",$L9=""),"",$K9+$L9) | O9: =IF(OR($A9="",$M9=""),"",$M9-IF($N9="",0,$N9)) | P9: Bankový prevod | Q9: Čaká na úhradu
A10: 2026-009 | B10: 46280 | C10: 46296 | E10: =IF(OR($A10="",$M10=""),"",IF($N10>=$M10,"Uhradená",IF(TODAY()>$C10,"Po splatnosti","Vystavená"))) | F10: Katarína Horváthová | G10: 54981236 | H10: Košice | I10: Grafické práce | J10: 0.2 | K10: 450 | L10: =IF(OR($A10="",$K10="",$J10=""),"",$K10*$J10) | M10: =IF(OR($A10="",$K10="",$L10=""),"",$K10+$L10) | O10: =IF(OR($A10="",$M10=""),"",$M10-IF($N10="",0,$N10)) | P10: Bankový prevod | Q10: Čaká na úhradu
E11: =IF(OR($A11="",$M11=""),"",IF($N11>=$M11,"Uhradená",IF(TODAY()>$C11,"Po splatnosti","Vystavená"))) | L11: =IF(OR($A11="",$K11="",$J11=""),"",$K11*$J11) | M11: =IF(OR($A11="",$K11="",$L11=""),"",$K11+$L11) | O11: =IF(OR($A11="",$M11=""),"",$M11-IF($N11="",0,$N11))
E12: =IF(OR($A12="",$M12=""),"",IF($N12>=$M12,"Uhradená",IF(TODAY()>$C12,"Po splatnosti","Vystavená"))) | L12: =IF(OR($A12="",$K12="",$J12=""),"",$K12*$J12) | M12: =IF(OR($A12="",$K12="",$L12=""),"",$K12+$L12) | O12: =IF(OR($A12="",$M12=""),"",$M12-IF($N12="",0,$N12))
E13: =IF(OR($A13="",$M13=""),"",IF($N13>=$M13,"Uhradená",IF(TODAY()>$C13,"Po splatnosti","Vystavená"))) | L13: =IF(OR($A13="",$K13="",$J13=""),"",$K13*$J13) | M13: =IF(OR($A13="",$K13="",$L13=""),"",$K13+$L13) | O13: =IF(OR($A13="",$M13=""),"",$M13-IF($N13="",0,$N13))
E14: =IF(OR($A14="",$M14=""),"",IF($N14>=$M14,"Uhradená",IF(TODAY()>$C14,"Po splatnosti","Vystavená"))) | L14: =IF(OR($A14="",$K14="",$J14=""),"",$K14*$J14) | M14: =IF(OR($A14="",$K14="",$L14=""),"",$K14+$L14) | O14: =IF(OR($A14="",$M14=""),"",$M14-IF($N14="",0,$N14))
E15: =IF(OR($A15="",$M15=""),"",IF($N15>=$M15,"Uhradená",IF(TODAY()>$C15,"Po splatnosti","Vystavená"))) | L15: =IF(OR($A15="",$K15="",$J15=""),"",$K15*$J15) | M15: =IF(OR($A15="",$K15="",$L15=""),"",$K15+$L15) | O15: =IF(OR($A15="",$M15=""),"",$M15-IF($N15="",0,$N15))
E16: =IF(OR($A16="",$M16=""),"",IF($N16>=$M16,"Uhradená",IF(TODAY()>$C16,"Po splatnosti","Vystavená"))) | L16: =IF(OR($A16="",$K16="",$J16=""),"",$K16*$J16) | M16: =IF(OR($A16="",$K16="",$L16=""),"",$K16+$L16) | O16: =IF(OR($A16="",$M16=""),"",$M16-IF($N16="",0,$N16))
E17: =IF(OR($A17="",$M17=""),"",IF($N17>=$M17,"Uhradená",IF(TODAY()>$C17,"Po splatnosti","Vystavená"))) | L17: =IF(OR($A17="",$K17="",$J17=""),"",$K17*$J17) | M17: =IF(OR($A17="",$K17="",$L17=""),"",$K17+$L17) | O17: =IF(OR($A17="",$M17=""),"",$M17-IF($N17="",0,$N17))
E18: =IF(OR($A18="",$M18=""),"",IF($N18>=$M18,"Uhradená",IF(TODAY()>$C18,"Po splatnosti","Vystavená"))) | L18: =IF(OR($A18="",$K18="",$J18=""),"",$K18*$J18) | M18: =IF(OR($A18="",$K18="",$L18=""),"",$K18+$L18) | O18: =IF(OR($A18="",$M18=""),"",$M18-IF($N18="",0,$N18))
E19: =IF(OR($A19="",$M19=""),"",IF($N19>=$M19,"Uhradená",IF(TODAY()>$C19,"Po splatnosti","Vystavená"))) | L19: =IF(OR($A19="",$K19="",$J19=""),"",$K19*$J19) | M19: =IF(OR($A19="",$K19="",$L19=""),"",$K19+$L19) | O19: =IF(OR($A19="",$M19=""),"",$M19-IF($N19="",0,$N19))
E20: =IF(OR($A20="",$M20=""),"",IF($N20>=$M20,"Uhradená",IF(TODAY()>$C20,"Po splatnosti","Vystavená"))) | L20: =IF(OR($A20="",$K20="",$J20=""),"",$K20*$J20) | M20: =IF(OR($A20="",$K20="",$L20=""),"",$K20+$L20) | O20: =IF(OR($A20="",$M20=""),"",$M20-IF($N20="",0,$N20))
E21: =IF(OR($A21="",$M21=""),"",IF($N21>=$M21,"Uhradená",IF(TODAY()>$C21,"Po splatnosti","Vystavená"))) | L21: =IF(OR($A21="",$K21="",$J21=""),"",$K21*$J21) | M21: =IF(OR($A21="",$K21="",$L21=""),"",$K21+$L21) | O21: =IF(OR($A21="",$M21=""),"",$M21-IF($N21="",0,$N21))
E22: =IF(OR($A22="",$M22=""),"",IF($N22>=$M22,"Uhradená",IF(TODAY()>$C22,"Po splatnosti","Vystavená"))) | L22: =IF(OR($A22="",$K22="",$J22=""),"",$K22*$J22) | M22: =IF(OR($A22="",$K22="",$L22=""),"",$K22+$L22) | O22: =IF(OR($A22="",$M22=""),"",$M22-IF($N22="",0,$N22))
... E101: =IF(OR($A101="",$M101=""),"",IF($N101>=$M101,"Uhradená",IF(TODAY()>$C101,"Po splatnosti","Vystavená"))) | L101: =IF(OR($A101="",$K101="",$J101=""),"",$K101*$J101) | M101: =IF(OR($A101="",$K101="",$L101=""),"",$K101+$L101) | O101: =IF(OR($A101="",$M101=""),"",$M101-IF($N101="",0,$N101))

Sheet Faktúra – vzor
A1: FAKTÚRA – VZOR PRE SZČO
A3: Dodávateľ | C3: Údaje faktúry | E3: Odberateľ | G3: Kontaktné a bankové údaje
A4: Meno SZČO | B4: Ján Novák | C4: Číslo faktúry | D4: 2026-001 | E4: Názov / meno | G4: Telefón | H4: +421 900 123 456
A5: Obchodné meno | B5: Novák služby | C5: Variabilný symbol | D5: 2026001 | E5: Adresa | G5: E-mail | H5: jan.novak@example.sk
A6: Adresa | B6: Hlavná 25, 010 01 Žilina | C6: Dátum vystavenia | D6: 46282 | E6: IČO | G6: IBAN | H6: SK31 1100 0000 0029 8765 4321
A7: IČO | B7: 51234567 | C7: Dátum dodania | D7: 46282 | E7: DIČ | G7: BIC / SWIFT | H7: TATRSKBX
A8: DIČ | B8: 1023456789 | C8: Dátum splatnosti | D8: 46296 | E8: IČ DPH | G8: Režim DPH | H8: Platiteľ DPH
A9: IČ DPH | B9: SK1023456789
A11: Položka | B11: Množstvo | C11: Jednotka | D11: Jednotková cena bez DPH | E11: Sadzba DPH | F11: Cena bez DPH | G11: DPH | H11: Cena spolu
F12: =IF(OR($A12="",$B12="",$D12=""),"",$B12*$D12) | G12: =IF(OR($F12="",$E12=""),"",$F12*$E12) | H12: =IF(OR($F12="",$G12=""),"",$F12+$G12)
F13: =IF(OR($A13="",$B13="",$D13=""),"",$B13*$D13) | G13: =IF(OR($F13="",$E13=""),"",$F13*$E13) | H13: =IF(OR($F13="",$G13=""),"",$F13+$G13)
F14: =IF(OR($A14="",$B14="",$D14=""),"",$B14*$D14) | G14: =IF(OR($F14="",$E14=""),"",$F14*$E14) | H14: =IF(OR($F14="",$G14=""),"",$F14+$G14)
F15: =IF(OR($A15="",$B15="",$D15=""),"",$B15*$D15) | G15: =IF(OR($F15="",$E15=""),"",$F15*$E15) | H15: =IF(OR($F15="",$G15=""),"",$F15+$G15)
F16: =IF(OR($A16="",$B16="",$D16=""),"",$B16*$D16) | G16: =IF(OR($F16="",$E16=""),"",$F16*$E16) | H16: =IF(OR($F16="",$G16=""),"",$F16+$G16)
F17: =IF(OR($A17="",$B17="",$D17=""),"",$B17*$D17) | G17: =IF(OR($F17="",$E17=""),"",$F17*$E17) | H17: =IF(OR($F17="",$G17=""),"",$F17+$G17)
F18: =IF(OR($A18="",$B18="",$D18=""),"",$B18*$D18) | G18: =IF(OR($F18="",$E18=""),"",$F18*$E18) | H18: =IF(OR($F18="",$G18=""),"",$F18+$G18)
F19: =IF(OR($A19="",$B19="",$D19=""),"",$B19*$D19) | G19: =IF(OR($F19="",$E19=""),"",$F19*$E19) | H19: =IF(OR($F19="",$G19=""),"",$F19+$G19)
F20: =IF(OR($A20="",$B20="",$D20=""),"",$B20*$D20) | G20: =IF(OR($F20="",$E20=""),"",$F20*$E20) | H20: =IF(OR($F20="",$G20=""),"",$F20+$G20)
F21: =IF(OR($A21="",$B21="",$D21=""),"",$B21*$D21) | G21: =IF(OR($F21="",$E21=""),"",$F21*$E21) | H21: =IF(OR($F21="",$G21=""),"",$F21+$G21)
F22: =IF(OR($A22="",$B22="",$D22=""),"",$B22*$D22) | G22: =IF(OR($F22="",$E22=""),"",$F22*$E22) | H22: =IF(OR($F22="",$G22=""),"",$F22+$G22)
F23: =IF(OR($A23="",$B23="",$D23=""),"",$B23*$D23) | G23: =IF(OR($F23="",$E23=""),"",$F23*$E23) | H23: =IF(OR($F23="",$G23=""),"",$F23+$G23)
... F111: =IF(OR($A111="",$B111="",$D111=""),"",$B111*$D111) | G111: =IF(OR($F111="",$E111=""),"",$F111*$E111) | H111: =IF(OR($F111="",$G111=""),"",$F111+$G111)
F114: Základ dane | H114: =SUM(F12:F111)
F115: DPH | H115: =SUM(G12:G111)
F116: Celkom na úhradu | H116: =SUM(H12:H111)
A119: Poznámka | B119: Pred odoslaním faktúry skontrolujte všetky identifikačné a platobné údaje.

Sheet Prehľad
A1: PREHĽAD FAKTURÁCIE SZČO ZA ROK 2026
A3: Ukazovateľ | B3: Hodnota | D3: Ukazovateľ | E3: Hodnota
A4: Celková fakturovaná suma s DPH | B4: =SUM('Faktúry'!$M$2:$M$101) | D4: Neuhradené faktúry | E4: =COUNTIFS('Faktúry'!$A$2:$A$101,"<>",'Faktúry'!$E$2:$E$101,"<>Uhradená")
A5: Celkový základ bez DPH | B5: =SUM('Faktúry'!$K$2:$K$101) | D5: Priemerná hodnota faktúry | E5: =IFERROR(AVERAGE('Faktúry'!$M$2:$M$101),0)
A6: Celková DPH | B6: =SUM('Faktúry'!$L$2:$L$101) | D6: Podiel uhradených faktúr | E6: =IFERROR(COUNTIF('Faktúry'!$E$2:$E$101,"Uhradená")/COUNTA('Faktúry'!$A$2:$A$101),0)
A7: Uhradené faktúry | B7: =COUNTIF('Faktúry'!$E$2:$E$101,"Uhradená") | D7: Uhradené platby | E7: =SUMIF('Faktúry'!$E$2:$E$101,"Uhradená",'Faktúry'!$N$2:$N$101)
A11: Mesiac | B11: Od | C11: Do | D11: Počet faktúr | E11: Fakturované spolu | F11: Uhradené spolu
A12: Január | B12: 46023 | C12: 46054 | D12: =COUNTIFS('Faktúry'!$B$2:$B$101,">="&$B12,'Faktúry'!$B$2:$B$101,"<"&$C12) | E12: =SUMIFS('Faktúry'!$M$2:$M$101,'Faktúry'!$B$2:$B$101,">="&$B12,'Faktúry'!$B$2:$B$101,"<"&$C12) | F12: =SUMIFS('Faktúry'!$N$2:$N$101,'Faktúry'!$D$2:$D$101,">="&$B12,'Faktúry'!$D$2:$D$101,"<"&$C12)
A13: Február | B13: 46054 | C13: 46082 | D13: =COUNTIFS('Faktúry'!$B$2:$B$101,">="&$B13,'Faktúry'!$B$2:$B$101,"<"&$C13) | E13: =SUMIFS('Faktúry'!$M$2:$M$101,'Faktúry'!$B$2:$B$101,">="&$B13,'Faktúry'!$B$2:$B$101,"<"&$C13) | F13: =SUMIFS('Faktúry'!$N$2:$N$101,'Faktúry'!$D$2:$D$101,">="&$B13,'Faktúry'!$D$2:$D$101,"<"&$C13)
A14: Marec | B14: 46082 | C14: 46113 | D14: =COUNTIFS('Faktúry'!$B$2:$B$101,">="&$B14,'Faktúry'!$B$2:$B$101,"<"&$C14) | E14: =SUMIFS('Faktúry'!$M$2:$M$101,'Faktúry'!$B$2:$B$101,">="&$B14,'Faktúry'!$B$2:$B$101,"<"&$C14) | F14: =SUMIFS('Faktúry'!$N$2:$N$101,'Faktúry'!$D$2:$D$101,">="&$B14,'Faktúry'!$D$2:$D$101,"<"&$C14)
A15: Apríl | B15: 46113 | C15: 46143 | D15: =COUNTIFS('Faktúry'!$B$2:$B$101,">="&$B15,'Faktúry'!$B$2:$B$101,"<"&$C15) | E15: =SUMIFS('Faktúry'!$M$2:$M$101,'Faktúry'!$B$2:$B$101,">="&$B15,'Faktúry'!$B$2:$B$101,"<"&$C15) | F15: =SUMIFS('Faktúry'!$N$2:$N$101,'Faktúry'!$D$2:$D$101,">="&$B15,'Faktúry'!$D$2:$D$101,"<"&$C15)
A16: Máj | B16: 46143 | C16: 46174 | D16: =COUNTIFS('Faktúry'!$B$2:$B$101,">="&$B16,'Faktúry'!$B$2:$B$101,"<"&$C16) | E16: =SUMIFS('Faktúry'!$M$2:$M$101,'Faktúry'!$B$2:$B$101,">="&$B16,'Faktúry'!$B$2:$B$101,"<"&$C16) | F16: =SUMIFS('Faktúry'!$N$2:$N$101,'Faktúry'!$D$2:$D$101,">="&$B16,'Faktúry'!$D$2:$D$101,"<"&$C16)
A17: Jún | B17: 46174 | C17: 46204 | D17: =COUNTIFS('Faktúry'!$B$2:$B$101,">="&$B17,'Faktúry'!$B$2:$B$101,"<"&$C17) | E17: =SUMIFS('Faktúry'!$M$2:$M$101,'Faktúry'!$B$2:$B$101,">="&$B17,'Faktúry'!$B$2:$B$101,"<"&$C17) | F17: =SUMIFS('Faktúry'!$N$2:$N$101,'Faktúry'!$D$2:$D$101,">="&$B17,'Faktúry'!$D$2:$D$101,"<"&$C17)
A18: Júl | B18: 46204 | C18: 46235 | D18: =COUNTIFS('Faktúry'!$B$2:$B$101,">="&$B18,'Faktúry'!$B$2:$B$101,"<"&$C18) | E18: =SUMIFS('Faktúry'!$M$2:$M$101,'Faktúry'!$B$2:$B$101,">="&$B18,'Faktúry'!$B$2:$B$101,"<"&$C18) | F18: =SUMIFS('Faktúry'!$N$2:$N$101,'Faktúry'!$D$2:$D$101,">="&$B18,'Faktúry'!$D$2:$D$101,"<"&$C18)
A19: August | B19: 46235 | C19: 46266 | D19: =COUNTIFS('Faktúry'!$B$2:$B$101,">="&$B19,'Faktúry'!$B$2:$B$101,"<"&$C19) | E19: =SUMIFS('Faktúry'!$M$2:$M$101,'Faktúry'!$B$2:$B$101,">="&$B19,'Faktúry'!$B$2:$B$101,"<"&$C19) | F19: =SUMIFS('Faktúry'!$N$2:$N$101,'Faktúry'!$D$2:$D$101,">="&$B19,'Faktúry'!$D$2:$D$101,"<"&$C19)
A20: September | B20: 46266 | C20: 46296 | D20: =COUNTIFS('Faktúry'!$B$2:$B$101,">="&$B20,'Faktúry'!$B$2:$B$101,"<"&$C20) | E20: =SUMIFS('Faktúry'!$M$2:$M$101,'Faktúry'!$B$2:$B$101,">="&$B20,'Faktúry'!$B$2:$B$101,"<"&$C20) | F20: =SUMIFS('Faktúry'!$N$2:$N$101,'Faktúry'!$D$2:$D$101,">="&$B20,'Faktúry'!$D$2:$D$101,"<"&$C20)
A23: Overenie odberateľa
A24: Vybraný odberateľ | B24: Novák Consulting s.r.o. | C24: Mesto | D24: =IFERROR(VLOOKUP($B$24,'Faktúry'!$F$2:$H$101,3,FALSE),"")
A27: Stav | B27: Počet faktúr
A28: Uhradená | B28: =COUNTIF('Faktúry'!$E$2:$E$101,$A28)
A29: Po splatnosti | B29: =COUNTIF('Faktúry'!$E$2:$E$101,$A29)
A30: Vystavená | B30: =COUNTIF('Faktúry'!$E$2:$E$101,$A30)

Sheet Pokyny
A1: POKYNY K EVIDENCII FAKTURÁCIE SZČO
A3: Základné pokyny
A5: 1 | B5: Žlté bunky sú určené na zadávanie údajov.
A6: 2 | B6: Na hárku „Faktúry“ zadávajte každú vystavenú faktúru do nového riadku.
A7: 3 | B7: DPH nastavujte podľa režimu podnikateľa: 20 %, 10 %, 5 % alebo 0 %.
A8: 4 | B8: Pri neplatiteľovi DPH použite 0 % a doplňte text „Nie som platiteľom DPH“.
A9: 5 | B9: Stav, DPH, celková suma a neuhradená suma sa vypočítajú automaticky.
A10: 6 | B10: Pred použitím skontrolujte údaje podľa požiadaviek Finančnej správy a GDPR.
A11: 7 | B11: Evidencia nenahrádza účtovné a daňové poradenstvo.
A14: Vysvetlenie stĺpcov na hárku Faktúry
A16: Číslo faktúry | B16: Jedinečné označenie vystavenej faktúry.
A17: Dátumy | B17: Dátum vystavenia, splatnosti a prípadnej úhrady.
A18: Stav | B18: Automatický stav podľa úhrady a dátumu splatnosti.
A19: Odberateľ | B19: Obchodné meno alebo meno zákazníka a jeho identifikačné údaje.
A20: Sadzba DPH | B20: Vyberte sadzbu DPH podľa aktuálneho režimu podnikateľa.
A21: Základ bez DPH | B21: Suma za službu alebo tovar bez dane z pridanej hodnoty.
A22: DPH a Celkom s DPH | B22: Automaticky vypočítané sumy podľa základu a sadzby DPH.
A23: Uhradené a Neuhradené | B23: Evidencia prijatej platby a zostávajúcej pohľadávky.
A24: Spôsob úhrady | B24: Zvolený spôsob prijatia platby.
A25: Poznámka | B25: Doplňujúca informácia k faktúre alebo platbe.
