Workbook

Sheet Plán likvidity
A1: PLÁN LIKVIDITY FIRMY – ROK 2026
A2: Vstupné parametre | B2: Hodnota | J2: Súhrnný panel | K2: Hodnota
A3: Počiatočný zostatok k 01.01.2026 | B3: 25000 | J3: Celkové príjmy | K3: =SUMIF('Plán likvidity'!$C$11:$C$110,"Príjem",'Plán likvidity'!$L$11:$L$110)
A4: Minimálna bezpečnostná rezerva | B4: 10000 | J4: Celkové výdavky | K4: =SUMIF('Plán likvidity'!$C$11:$C$110,"Výdavok",'Plán likvidity'!$L$11:$L$110)
A5: Štandardná sadzba DPH | B5: 0.2 | J5: Priemerný pohyb | K5: =IFERROR(AVERAGE('Plán likvidity'!$L$11:$L$110),0)
J6: Počet neuhradených položiek | K6: =COUNTIFS('Plán likvidity'!$B$11:$B$110,"<>",'Plán likvidity'!$M$11:$M$110,"<>Uhradené")
A7: Žlté bunky sú určené na zadávanie alebo úpravu plánovaných pohybov. | J7: Podiel výdavkov na pohyboch | K7: =IFERROR(SUMIF('Plán likvidity'!$C$11:$C$110,"Výdavok",'Plán likvidity'!$L$11:$L$110)/SUM('Plán likvidity'!$L$11:$L$110),0)
J8: Počet položiek po splatnosti | K8: =COUNTIF('Plán likvidity'!$R$11:$R$110,"Po splatnosti")
A10: ID | B10: Dátum splatnosti | C10: Typ pohybu | D10: Kategória | E10: Partner | F10: IČO | G10: Variabilný symbol | H10: Popis | I10: Suma bez DPH | J10: Sadzba DPH | K10: DPH | L10: Suma s DPH | M10: Stav | N10: Dátum úhrady | O10: Bankový účet | P10: Vplyv na likviditu | Q10: Kumulatívny zostatok | R10: Upozornenie | S10: Skupina kategórie
A11: =IF('Plán likvidity'!B11="","",COUNTA('Plán likvidity'!$B$11:B11)) | B11: 46027 | C11: Príjem | D11: Predaj tovaru | E11: Ján Novák, s.r.o. – Bratislava | F11: 51234567 | G11: 2026001 | H11: Faktúra za dodaný tovar | I11: 4200 | J11: 0.2 | K11: =IF(OR('Plán likvidity'!I11="",'Plán likvidity'!J11=""),"",'Plán likvidity'!I11*'Plán likvidity'!J11) | L11: =IF(OR('Plán likvidity'!I11="",'Plán likvidity'!J11=""),"",'Plán likvidity'!I11+'Plán likvidity'!K11) | M11: Uhradené | N11: 46027 | O11: SK31120000001987451236 | P11: =IF(OR('Plán likvidity'!C11="",'Plán likvidity'!L11=""),"",IF('Plán likvidity'!C11="Príjem",'Plán likvidity'!L11,-'Plán likvidity'!L11)) | Q11: =IF('Plán likvidity'!P11="","",'Plán likvidity'!$B$3+SUM('Plán likvidity'!$P$11:P11)) | R11: =IF('Plán likvidity'!B11="","",IF(AND('Plán likvidity'!M11<>"Uhradené",'Plán likvidity'!B11<TODAY()),"Po splatnosti","V poriadku")) | S11: =IF('Plán likvidity'!D11="","",IFERROR(VLOOKUP('Plán likvidity'!D11,'Pokyny'!$A$16:$B$23,2,FALSE),""))
A12: =IF('Plán likvidity'!B12="","",COUNTA('Plán likvidity'!$B$11:B12)) | B12: 46037 | C12: Výdavok | D12: Mzdy | E12: Mária Kováčová | G12: 2026015 | H12: Mzda za január 2026 | I12: 3200 | J12: 0 | K12: =IF(OR('Plán likvidity'!I12="",'Plán likvidity'!J12=""),"",'Plán likvidity'!I12*'Plán likvidity'!J12) | L12: =IF(OR('Plán likvidity'!I12="",'Plán likvidity'!J12=""),"",'Plán likvidity'!I12+'Plán likvidity'!K12) | M12: Uhradené | N12: 46037 | O12: SK31120000001987451236 | P12: =IF(OR('Plán likvidity'!C12="",'Plán likvidity'!L12=""),"",IF('Plán likvidity'!C12="Príjem",'Plán likvidity'!L12,-'Plán likvidity'!L12)) | Q12: =IF('Plán likvidity'!P12="","",'Plán likvidity'!$B$3+SUM('Plán likvidity'!$P$11:P12)) | R12: =IF('Plán likvidity'!B12="","",IF(AND('Plán likvidity'!M12<>"Uhradené",'Plán likvidity'!B12<TODAY()),"Po splatnosti","V poriadku")) | S12: =IF('Plán likvidity'!D12="","",IFERROR(VLOOKUP('Plán likvidity'!D12,'Pokyny'!$A$16:$B$23,2,FALSE),""))
A13: =IF('Plán likvidity'!B13="","",COUNTA('Plán likvidity'!$B$11:B13)) | B13: 46042 | C13: Výdavok | D13: Nájom | E13: Kancelárie Bratislava, s.r.o. | F13: 52345678 | G13: 2026020 | H13: Nájom kancelárie za január | I13: 1200 | J13: 0.2 | K13: =IF(OR('Plán likvidity'!I13="",'Plán likvidity'!J13=""),"",'Plán likvidity'!I13*'Plán likvidity'!J13) | L13: =IF(OR('Plán likvidity'!I13="",'Plán likvidity'!J13=""),"",'Plán likvidity'!I13+'Plán likvidity'!K13) | M13: Uhradené | N13: 46042 | O13: SK31120000001987451236 | P13: =IF(OR('Plán likvidity'!C13="",'Plán likvidity'!L13=""),"",IF('Plán likvidity'!C13="Príjem",'Plán likvidity'!L13,-'Plán likvidity'!L13)) | Q13: =IF('Plán likvidity'!P13="","",'Plán likvidity'!$B$3+SUM('Plán likvidity'!$P$11:P13)) | R13: =IF('Plán likvidity'!B13="","",IF(AND('Plán likvidity'!M13<>"Uhradené",'Plán likvidity'!B13<TODAY()),"Po splatnosti","V poriadku")) | S13: =IF('Plán likvidity'!D13="","",IFERROR(VLOOKUP('Plán likvidity'!D13,'Pokyny'!$A$16:$B$23,2,FALSE),""))
A14: =IF('Plán likvidity'!B14="","",COUNTA('Plán likvidity'!$B$11:B14)) | B14: 46058 | C14: Príjem | D14: Servisné služby | E14: Peter Horváth, s.r.o. – Košice | F14: 53456789 | G14: 2026002 | H14: Servisné služby pre zákazníka | I14: 4500 | J14: 0.2 | K14: =IF(OR('Plán likvidity'!I14="",'Plán likvidity'!J14=""),"",'Plán likvidity'!I14*'Plán likvidity'!J14) | L14: =IF(OR('Plán likvidity'!I14="",'Plán likvidity'!J14=""),"",'Plán likvidity'!I14+'Plán likvidity'!K14) | M14: Uhradené | N14: 46059 | O14: SK31120000001987451236 | P14: =IF(OR('Plán likvidity'!C14="",'Plán likvidity'!L14=""),"",IF('Plán likvidity'!C14="Príjem",'Plán likvidity'!L14,-'Plán likvidity'!L14)) | Q14: =IF('Plán likvidity'!P14="","",'Plán likvidity'!$B$3+SUM('Plán likvidity'!$P$11:P14)) | R14: =IF('Plán likvidity'!B14="","",IF(AND('Plán likvidity'!M14<>"Uhradené",'Plán likvidity'!B14<TODAY()),"Po splatnosti","V poriadku")) | S14: =IF('Plán likvidity'!D14="","",IFERROR(VLOOKUP('Plán likvidity'!D14,'Pokyny'!$A$16:$B$23,2,FALSE),""))
A15: =IF('Plán likvidity'!B15="","",COUNTA('Plán likvidity'!$B$11:B15)) | B15: 46068 | C15: Výdavok | D15: Odvody | E15: Sociálna poisťovňa | F15: 30807484 | G15: 2026215 | H15: Sociálne a zdravotné odvody | I15: 1850 | J15: 0 | K15: =IF(OR('Plán likvidity'!I15="",'Plán likvidity'!J15=""),"",'Plán likvidity'!I15*'Plán likvidity'!J15) | L15: =IF(OR('Plán likvidity'!I15="",'Plán likvidity'!J15=""),"",'Plán likvidity'!I15+'Plán likvidity'!K15) | M15: Uhradené | N15: 46068 | O15: SK31120000001987451236 | P15: =IF(OR('Plán likvidity'!C15="",'Plán likvidity'!L15=""),"",IF('Plán likvidity'!C15="Príjem",'Plán likvidity'!L15,-'Plán likvidity'!L15)) | Q15: =IF('Plán likvidity'!P15="","",'Plán likvidity'!$B$3+SUM('Plán likvidity'!$P$11:P15)) | R15: =IF('Plán likvidity'!B15="","",IF(AND('Plán likvidity'!M15<>"Uhradené",'Plán likvidity'!B15<TODAY()),"Po splatnosti","V poriadku")) | S15: =IF('Plán likvidity'!D15="","",IFERROR(VLOOKUP('Plán likvidity'!D15,'Pokyny'!$A$16:$B$23,2,FALSE),""))
A16: =IF('Plán likvidity'!B16="","",COUNTA('Plán likvidity'!$B$11:B16)) | B16: 46081 | C16: Výdavok | D16: Účtovníctvo | E16: Zuzana Tóthová – Účtovníctvo | F16: 54567891 | G16: 2026228 | H16: Spracovanie účtovníctva | I16: 650 | J16: 0.2 | K16: =IF(OR('Plán likvidity'!I16="",'Plán likvidity'!J16=""),"",'Plán likvidity'!I16*'Plán likvidity'!J16) | L16: =IF(OR('Plán likvidity'!I16="",'Plán likvidity'!J16=""),"",'Plán likvidity'!I16+'Plán likvidity'!K16) | M16: Uhradené | N16: 46081 | O16: SK31120000001987451236 | P16: =IF(OR('Plán likvidity'!C16="",'Plán likvidity'!L16=""),"",IF('Plán likvidity'!C16="Príjem",'Plán likvidity'!L16,-'Plán likvidity'!L16)) | Q16: =IF('Plán likvidity'!P16="","",'Plán likvidity'!$B$3+SUM('Plán likvidity'!$P$11:P16)) | R16: =IF('Plán likvidity'!B16="","",IF(AND('Plán likvidity'!M16<>"Uhradené",'Plán likvidity'!B16<TODAY()),"Po splatnosti","V poriadku")) | S16: =IF('Plán likvidity'!D16="","",IFERROR(VLOOKUP('Plán likvidity'!D16,'Pokyny'!$A$16:$B$23,2,FALSE),""))
A17: =IF('Plán likvidity'!B17="","",COUNTA('Plán likvidity'!$B$11:B17)) | B17: 46091 | C17: Príjem | D17: Predaj tovaru | E17: Martin Baláž, s.r.o. – Žilina | F17: 55678912 | G17: 2026003 | H17: Faktúra za technologické vybavenie | I17: 8900 | J17: 0.2 | K17: =IF(OR('Plán likvidity'!I17="",'Plán likvidity'!J17=""),"",'Plán likvidity'!I17*'Plán likvidity'!J17) | L17: =IF(OR('Plán likvidity'!I17="",'Plán likvidity'!J17=""),"",'Plán likvidity'!I17+'Plán likvidity'!K17) | M17: Uhradené | N17: 46093 | O17: SK31120000001987451236 | P17: =IF(OR('Plán likvidity'!C17="",'Plán likvidity'!L17=""),"",IF('Plán likvidity'!C17="Príjem",'Plán likvidity'!L17,-'Plán likvidity'!L17)) | Q17: =IF('Plán likvidity'!P17="","",'Plán likvidity'!$B$3+SUM('Plán likvidity'!$P$11:P17)) | R17: =IF('Plán likvidity'!B17="","",IF(AND('Plán likvidity'!M17<>"Uhradené",'Plán likvidity'!B17<TODAY()),"Po splatnosti","V poriadku")) | S17: =IF('Plán likvidity'!D17="","",IFERROR(VLOOKUP('Plán likvidity'!D17,'Pokyny'!$A$16:$B$23,2,FALSE),""))
A18: =IF('Plán likvidity'!B18="","",COUNTA('Plán likvidity'!$B$11:B18)) | B18: 46106 | C18: Výdavok | D18: Softvér | E18: SoftPro Slovensko, s.r.o. | F18: 56789123 | G18: 2026325 | H18: Ročná licencia softvéru | I18: 980 | J18: 0.2 | K18: =IF(OR('Plán likvidity'!I18="",'Plán likvidity'!J18=""),"",'Plán likvidity'!I18*'Plán likvidity'!J18) | L18: =IF(OR('Plán likvidity'!I18="",'Plán likvidity'!J18=""),"",'Plán likvidity'!I18+'Plán likvidity'!K18) | M18: Uhradené | N18: 46106 | O18: SK31120000001987451236 | P18: =IF(OR('Plán likvidity'!C18="",'Plán likvidity'!L18=""),"",IF('Plán likvidity'!C18="Príjem",'Plán likvidity'!L18,-'Plán likvidity'!L18)) | Q18: =IF('Plán likvidity'!P18="","",'Plán likvidity'!$B$3+SUM('Plán likvidity'!$P$11:P18)) | R18: =IF('Plán likvidity'!B18="","",IF(AND('Plán likvidity'!M18<>"Uhradené",'Plán likvidity'!B18<TODAY()),"Po splatnosti","V poriadku")) | S18: =IF('Plán likvidity'!D18="","",IFERROR(VLOOKUP('Plán likvidity'!D18,'Pokyny'!$A$16:$B$23,2,FALSE),""))
A19: =IF('Plán likvidity'!B19="","",COUNTA('Plán likvidity'!$B$11:B19)) | B19: 46127 | C19: Výdavok | D19: Marketing | E19: Marketing Trnava, s.r.o. | F19: 57891234 | G19: 2026415 | H19: Online marketingová kampaň | I19: 1450 | J19: 0.2 | K19: =IF(OR('Plán likvidity'!I19="",'Plán likvidity'!J19=""),"",'Plán likvidity'!I19*'Plán likvidity'!J19) | L19: =IF(OR('Plán likvidity'!I19="",'Plán likvidity'!J19=""),"",'Plán likvidity'!I19+'Plán likvidity'!K19) | M19: Po splatnosti | O19: SK31120000001987451236 | P19: =IF(OR('Plán likvidity'!C19="",'Plán likvidity'!L19=""),"",IF('Plán likvidity'!C19="Príjem",'Plán likvidity'!L19,-'Plán likvidity'!L19)) | Q19: =IF('Plán likvidity'!P19="","",'Plán likvidity'!$B$3+SUM('Plán likvidity'!$P$11:P19)) | R19: =IF('Plán likvidity'!B19="","",IF(AND('Plán likvidity'!M19<>"Uhradené",'Plán likvidity'!B19<TODAY()),"Po splatnosti","V poriadku")) | S19: =IF('Plán likvidity'!D19="","",IFERROR(VLOOKUP('Plán likvidity'!D19,'Pokyny'!$A$16:$B$23,2,FALSE),""))
A20: =IF('Plán likvidity'!B20="","",COUNTA('Plán likvidity'!$B$11:B20)) | B20: 46162 | C20: Príjem | D20: Servisné služby | E20: Katarína Tóthová, s.r.o. – Trnava | F20: 58912345 | G20: 2026005 | H20: Konzultačné a servisné služby | I20: 5400 | J20: 0.2 | K20: =IF(OR('Plán likvidity'!I20="",'Plán likvidity'!J20=""),"",'Plán likvidity'!I20*'Plán likvidity'!J20) | L20: =IF(OR('Plán likvidity'!I20="",'Plán likvidity'!J20=""),"",'Plán likvidity'!I20+'Plán likvidity'!K20) | M20: Plánované | O20: SK31120000001987451236 | P20: =IF(OR('Plán likvidity'!C20="",'Plán likvidity'!L20=""),"",IF('Plán likvidity'!C20="Príjem",'Plán likvidity'!L20,-'Plán likvidity'!L20)) | Q20: =IF('Plán likvidity'!P20="","",'Plán likvidity'!$B$3+SUM('Plán likvidity'!$P$11:P20)) | R20: =IF('Plán likvidity'!B20="","",IF(AND('Plán likvidity'!M20<>"Uhradené",'Plán likvidity'!B20<TODAY()),"Po splatnosti","V poriadku")) | S20: =IF('Plán likvidity'!D20="","",IFERROR(VLOOKUP('Plán likvidity'!D20,'Pokyny'!$A$16:$B$23,2,FALSE),""))
A21: =IF('Plán likvidity'!B21="","",COUNTA('Plán likvidity'!$B$11:B21)) | K21: =IF(OR('Plán likvidity'!I21="",'Plán likvidity'!J21=""),"",'Plán likvidity'!I21*'Plán likvidity'!J21) | L21: =IF(OR('Plán likvidity'!I21="",'Plán likvidity'!J21=""),"",'Plán likvidity'!I21+'Plán likvidity'!K21) | P21: =IF(OR('Plán likvidity'!C21="",'Plán likvidity'!L21=""),"",IF('Plán likvidity'!C21="Príjem",'Plán likvidity'!L21,-'Plán likvidity'!L21)) | Q21: =IF('Plán likvidity'!P21="","",'Plán likvidity'!$B$3+SUM('Plán likvidity'!$P$11:P21)) | R21: =IF('Plán likvidity'!B21="","",IF(AND('Plán likvidity'!M21<>"Uhradené",'Plán likvidity'!B21<TODAY()),"Po splatnosti","V poriadku")) | S21: =IF('Plán likvidity'!D21="","",IFERROR(VLOOKUP('Plán likvidity'!D21,'Pokyny'!$A$16:$B$23,2,FALSE),""))
A22: =IF('Plán likvidity'!B22="","",COUNTA('Plán likvidity'!$B$11:B22)) | K22: =IF(OR('Plán likvidity'!I22="",'Plán likvidity'!J22=""),"",'Plán likvidity'!I22*'Plán likvidity'!J22) | L22: =IF(OR('Plán likvidity'!I22="",'Plán likvidity'!J22=""),"",'Plán likvidity'!I22+'Plán likvidity'!K22) | P22: =IF(OR('Plán likvidity'!C22="",'Plán likvidity'!L22=""),"",IF('Plán likvidity'!C22="Príjem",'Plán likvidity'!L22,-'Plán likvidity'!L22)) | Q22: =IF('Plán likvidity'!P22="","",'Plán likvidity'!$B$3+SUM('Plán likvidity'!$P$11:P22)) | R22: =IF('Plán likvidity'!B22="","",IF(AND('Plán likvidity'!M22<>"Uhradené",'Plán likvidity'!B22<TODAY()),"Po splatnosti","V poriadku")) | S22: =IF('Plán likvidity'!D22="","",IFERROR(VLOOKUP('Plán likvidity'!D22,'Pokyny'!$A$16:$B$23,2,FALSE),""))
A23: =IF('Plán likvidity'!B23="","",COUNTA('Plán likvidity'!$B$11:B23)) | K23: =IF(OR('Plán likvidity'!I23="",'Plán likvidity'!J23=""),"",'Plán likvidity'!I23*'Plán likvidity'!J23) | L23: =IF(OR('Plán likvidity'!I23="",'Plán likvidity'!J23=""),"",'Plán likvidity'!I23+'Plán likvidity'!K23) | P23: =IF(OR('Plán likvidity'!C23="",'Plán likvidity'!L23=""),"",IF('Plán likvidity'!C23="Príjem",'Plán likvidity'!L23,-'Plán likvidity'!L23)) | Q23: =IF('Plán likvidity'!P23="","",'Plán likvidity'!$B$3+SUM('Plán likvidity'!$P$11:P23)) | R23: =IF('Plán likvidity'!B23="","",IF(AND('Plán likvidity'!M23<>"Uhradené",'Plán likvidity'!B23<TODAY()),"Po splatnosti","V poriadku")) | S23: =IF('Plán likvidity'!D23="","",IFERROR(VLOOKUP('Plán likvidity'!D23,'Pokyny'!$A$16:$B$23,2,FALSE),""))
A24: =IF('Plán likvidity'!B24="","",COUNTA('Plán likvidity'!$B$11:B24)) | K24: =IF(OR('Plán likvidity'!I24="",'Plán likvidity'!J24=""),"",'Plán likvidity'!I24*'Plán likvidity'!J24) | L24: =IF(OR('Plán likvidity'!I24="",'Plán likvidity'!J24=""),"",'Plán likvidity'!I24+'Plán likvidity'!K24) | P24: =IF(OR('Plán likvidity'!C24="",'Plán likvidity'!L24=""),"",IF('Plán likvidity'!C24="Príjem",'Plán likvidity'!L24,-'Plán likvidity'!L24)) | Q24: =IF('Plán likvidity'!P24="","",'Plán likvidity'!$B$3+SUM('Plán likvidity'!$P$11:P24)) | R24: =IF('Plán likvidity'!B24="","",IF(AND('Plán likvidity'!M24<>"Uhradené",'Plán likvidity'!B24<TODAY()),"Po splatnosti","V poriadku")) | S24: =IF('Plán likvidity'!D24="","",IFERROR(VLOOKUP('Plán likvidity'!D24,'Pokyny'!$A$16:$B$23,2,FALSE),""))
A25: =IF('Plán likvidity'!B25="","",COUNTA('Plán likvidity'!$B$11:B25)) | K25: =IF(OR('Plán likvidity'!I25="",'Plán likvidity'!J25=""),"",'Plán likvidity'!I25*'Plán likvidity'!J25) | L25: =IF(OR('Plán likvidity'!I25="",'Plán likvidity'!J25=""),"",'Plán likvidity'!I25+'Plán likvidity'!K25) | P25: =IF(OR('Plán likvidity'!C25="",'Plán likvidity'!L25=""),"",IF('Plán likvidity'!C25="Príjem",'Plán likvidity'!L25,-'Plán likvidity'!L25)) | Q25: =IF('Plán likvidity'!P25="","",'Plán likvidity'!$B$3+SUM('Plán likvidity'!$P$11:P25)) | R25: =IF('Plán likvidity'!B25="","",IF(AND('Plán likvidity'!M25<>"Uhradené",'Plán likvidity'!B25<TODAY()),"Po splatnosti","V poriadku")) | S25: =IF('Plán likvidity'!D25="","",IFERROR(VLOOKUP('Plán likvidity'!D25,'Pokyny'!$A$16:$B$23,2,FALSE),""))
A26: =IF('Plán likvidity'!B26="","",COUNTA('Plán likvidity'!$B$11:B26)) | K26: =IF(OR('Plán likvidity'!I26="",'Plán likvidity'!J26=""),"",'Plán likvidity'!I26*'Plán likvidity'!J26) | L26: =IF(OR('Plán likvidity'!I26="",'Plán likvidity'!J26=""),"",'Plán likvidity'!I26+'Plán likvidity'!K26) | P26: =IF(OR('Plán likvidity'!C26="",'Plán likvidity'!L26=""),"",IF('Plán likvidity'!C26="Príjem",'Plán likvidity'!L26,-'Plán likvidity'!L26)) | Q26: =IF('Plán likvidity'!P26="","",'Plán likvidity'!$B$3+SUM('Plán likvidity'!$P$11:P26)) | R26: =IF('Plán likvidity'!B26="","",IF(AND('Plán likvidity'!M26<>"Uhradené",'Plán likvidity'!B26<TODAY()),"Po splatnosti","V poriadku")) | S26: =IF('Plán likvidity'!D26="","",IFERROR(VLOOKUP('Plán likvidity'!D26,'Pokyny'!$A$16:$B$23,2,FALSE),""))
A27: =IF('Plán likvidity'!B27="","",COUNTA('Plán likvidity'!$B$11:B27)) | K27: =IF(OR('Plán likvidity'!I27="",'Plán likvidity'!J27=""),"",'Plán likvidity'!I27*'Plán likvidity'!J27) | L27: =IF(OR('Plán likvidity'!I27="",'Plán likvidity'!J27=""),"",'Plán likvidity'!I27+'Plán likvidity'!K27) | P27: =IF(OR('Plán likvidity'!C27="",'Plán likvidity'!L27=""),"",IF('Plán likvidity'!C27="Príjem",'Plán likvidity'!L27,-'Plán likvidity'!L27)) | Q27: =IF('Plán likvidity'!P27="","",'Plán likvidity'!$B$3+SUM('Plán likvidity'!$P$11:P27)) | R27: =IF('Plán likvidity'!B27="","",IF(AND('Plán likvidity'!M27<>"Uhradené",'Plán likvidity'!B27<TODAY()),"Po splatnosti","V poriadku")) | S27: =IF('Plán likvidity'!D27="","",IFERROR(VLOOKUP('Plán likvidity'!D27,'Pokyny'!$A$16:$B$23,2,FALSE),""))
A28: =IF('Plán likvidity'!B28="","",COUNTA('Plán likvidity'!$B$11:B28)) | K28: =IF(OR('Plán likvidity'!I28="",'Plán likvidity'!J28=""),"",'Plán likvidity'!I28*'Plán likvidity'!J28) | L28: =IF(OR('Plán likvidity'!I28="",'Plán likvidity'!J28=""),"",'Plán likvidity'!I28+'Plán likvidity'!K28) | P28: =IF(OR('Plán likvidity'!C28="",'Plán likvidity'!L28=""),"",IF('Plán likvidity'!C28="Príjem",'Plán likvidity'!L28,-'Plán likvidity'!L28)) | Q28: =IF('Plán likvidity'!P28="","",'Plán likvidity'!$B$3+SUM('Plán likvidity'!$P$11:P28)) | R28: =IF('Plán likvidity'!B28="","",IF(AND('Plán likvidity'!M28<>"Uhradené",'Plán likvidity'!B28<TODAY()),"Po splatnosti","V poriadku")) | S28: =IF('Plán likvidity'!D28="","",IFERROR(VLOOKUP('Plán likvidity'!D28,'Pokyny'!$A$16:$B$23,2,FALSE),""))
A29: =IF('Plán likvidity'!B29="","",COUNTA('Plán likvidity'!$B$11:B29)) | K29: =IF(OR('Plán likvidity'!I29="",'Plán likvidity'!J29=""),"",'Plán likvidity'!I29*'Plán likvidity'!J29) | L29: =IF(OR('Plán likvidity'!I29="",'Plán likvidity'!J29=""),"",'Plán likvidity'!I29+'Plán likvidity'!K29) | P29: =IF(OR('Plán likvidity'!C29="",'Plán likvidity'!L29=""),"",IF('Plán likvidity'!C29="Príjem",'Plán likvidity'!L29,-'Plán likvidity'!L29)) | Q29: =IF('Plán likvidity'!P29="","",'Plán likvidity'!$B$3+SUM('Plán likvidity'!$P$11:P29)) | R29: =IF('Plán likvidity'!B29="","",IF(AND('Plán likvidity'!M29<>"Uhradené",'Plán likvidity'!B29<TODAY()),"Po splatnosti","V poriadku")) | S29: =IF('Plán likvidity'!D29="","",IFERROR(VLOOKUP('Plán likvidity'!D29,'Pokyny'!$A$16:$B$23,2,FALSE),""))
A30: =IF('Plán likvidity'!B30="","",COUNTA('Plán likvidity'!$B$11:B30)) | K30: =IF(OR('Plán likvidity'!I30="",'Plán likvidity'!J30=""),"",'Plán likvidity'!I30*'Plán likvidity'!J30) | L30: =IF(OR('Plán likvidity'!I30="",'Plán likvidity'!J30=""),"",'Plán likvidity'!I30+'Plán likvidity'!K30) | P30: =IF(OR('Plán likvidity'!C30="",'Plán likvidity'!L30=""),"",IF('Plán likvidity'!C30="Príjem",'Plán likvidity'!L30,-'Plán likvidity'!L30)) | Q30: =IF('Plán likvidity'!P30="","",'Plán likvidity'!$B$3+SUM('Plán likvidity'!$P$11:P30)) | R30: =IF('Plán likvidity'!B30="","",IF(AND('Plán likvidity'!M30<>"Uhradené",'Plán likvidity'!B30<TODAY()),"Po splatnosti","V poriadku")) | S30: =IF('Plán likvidity'!D30="","",IFERROR(VLOOKUP('Plán likvidity'!D30,'Pokyny'!$A$16:$B$23,2,FALSE),""))
A31: =IF('Plán likvidity'!B31="","",COUNTA('Plán likvidity'!$B$11:B31)) | K31: =IF(OR('Plán likvidity'!I31="",'Plán likvidity'!J31=""),"",'Plán likvidity'!I31*'Plán likvidity'!J31) | L31: =IF(OR('Plán likvidity'!I31="",'Plán likvidity'!J31=""),"",'Plán likvidity'!I31+'Plán likvidity'!K31) | P31: =IF(OR('Plán likvidity'!C31="",'Plán likvidity'!L31=""),"",IF('Plán likvidity'!C31="Príjem",'Plán likvidity'!L31,-'Plán likvidity'!L31)) | Q31: =IF('Plán likvidity'!P31="","",'Plán likvidity'!$B$3+SUM('Plán likvidity'!$P$11:P31)) | R31: =IF('Plán likvidity'!B31="","",IF(AND('Plán likvidity'!M31<>"Uhradené",'Plán likvidity'!B31<TODAY()),"Po splatnosti","V poriadku")) | S31: =IF('Plán likvidity'!D31="","",IFERROR(VLOOKUP('Plán likvidity'!D31,'Pokyny'!$A$16:$B$23,2,FALSE),""))
A32: =IF('Plán likvidity'!B32="","",COUNTA('Plán likvidity'!$B$11:B32)) | K32: =IF(OR('Plán likvidity'!I32="",'Plán likvidity'!J32=""),"",'Plán likvidity'!I32*'Plán likvidity'!J32) | L32: =IF(OR('Plán likvidity'!I32="",'Plán likvidity'!J32=""),"",'Plán likvidity'!I32+'Plán likvidity'!K32) | P32: =IF(OR('Plán likvidity'!C32="",'Plán likvidity'!L32=""),"",IF('Plán likvidity'!C32="Príjem",'Plán likvidity'!L32,-'Plán likvidity'!L32)) | Q32: =IF('Plán likvidity'!P32="","",'Plán likvidity'!$B$3+SUM('Plán likvidity'!$P$11:P32)) | R32: =IF('Plán likvidity'!B32="","",IF(AND('Plán likvidity'!M32<>"Uhradené",'Plán likvidity'!B32<TODAY()),"Po splatnosti","V poriadku")) | S32: =IF('Plán likvidity'!D32="","",IFERROR(VLOOKUP('Plán likvidity'!D32,'Pokyny'!$A$16:$B$23,2,FALSE),""))
... A110: =IF('Plán likvidity'!B110="","",COUNTA('Plán likvidity'!$B$11:B110)) | K110: =IF(OR('Plán likvidity'!I110="",'Plán likvidity'!J110=""),"",'Plán likvidity'!I110*'Plán likvidity'!J110) | L110: =IF(OR('Plán likvidity'!I110="",'Plán likvidity'!J110=""),"",'Plán likvidity'!I110+'Plán likvidity'!K110) | P110: =IF(OR('Plán likvidity'!C110="",'Plán likvidity'!L110=""),"",IF('Plán likvidity'!C110="Príjem",'Plán likvidity'!L110,-'Plán likvidity'!L110)) | Q110: =IF('Plán likvidity'!P110="","",'Plán likvidity'!$B$3+SUM('Plán likvidity'!$P$11:P110)) | R110: =IF('Plán likvidity'!B110="","",IF(AND('Plán likvidity'!M110<>"Uhradené",'Plán likvidity'!B110<TODAY()),"Po splatnosti","V poriadku")) | S110: =IF('Plán likvidity'!D110="","",IFERROR(VLOOKUP('Plán likvidity'!D110,'Pokyny'!$A$16:$B$23,2,FALSE),""))

Sheet Dashboard
A1: DASHBOARD LIKVIDITY – ROK 2026
A3: Celkové príjmy | B3: Celkové výdavky | C3: Čistý cash flow | D3: Najnižší mesačný zostatok | E3: Položky po splatnosti
A4: ='Plán likvidity'!$K$3 | B4: ='Plán likvidity'!$K$4 | C4: =IFERROR('Dashboard'!$A$4-'Dashboard'!$B$4,0) | D4: =MIN('Dashboard'!$F$9:$F$20) | E4: ='Plán likvidity'!$K$8
A8: Mesiac | B8: Plánované príjmy | C8: Plánované výdavky | D8: Čistý cash flow | E8: Počiatočný zostatok | F8: Konečný zostatok | G8: Bezpečnostná rezerva | H8: Rozdiel voči rezerve | I8: Stav likvidity | K8: Kategória | L8: Výdavky s DPH
A9: 46023 | B9: =SUMIFS('Plán likvidity'!$L$11:$L$110,'Plán likvidity'!$C$11:$C$110,"Príjem",'Plán likvidity'!$B$11:$B$110,">="&'Dashboard'!$A9,'Plán likvidity'!$B$11:$B$110,"<"&DATE(YEAR('Dashboard'!$A9),MONTH('Dashboard'!$A9)+1,1)) | C9: =SUMIFS('Plán likvidity'!$L$11:$L$110,'Plán likvidity'!$C$11:$C$110,"Výdavok",'Plán likvidity'!$B$11:$B$110,">="&'Dashboard'!$A9,'Plán likvidity'!$B$11:$B$110,"<"&DATE(YEAR('Dashboard'!$A9),MONTH('Dashboard'!$A9)+1,1)) | D9: =IFERROR('Dashboard'!B9-'Dashboard'!C9,0) | E9: ='Plán likvidity'!$B$3 | F9: =IFERROR('Dashboard'!E9+'Dashboard'!D9,0) | G9: ='Plán likvidity'!$B$4 | H9: =IFERROR('Dashboard'!F9-'Dashboard'!G9,0) | I9: =IF('Dashboard'!F9<'Dashboard'!G9,"Riziko nedostatku likvidity",IF('Dashboard'!F9<'Dashboard'!G9*1.2,"Sledovať","Stabilná likvidita")) | K9: Mzdy | L9: =SUMIFS('Plán likvidity'!$L$11:$L$110,'Plán likvidity'!$C$11:$C$110,"Výdavok",'Plán likvidity'!$D$11:$D$110,'Dashboard'!K9)
A10: 46054 | B10: =SUMIFS('Plán likvidity'!$L$11:$L$110,'Plán likvidity'!$C$11:$C$110,"Príjem",'Plán likvidity'!$B$11:$B$110,">="&'Dashboard'!$A10,'Plán likvidity'!$B$11:$B$110,"<"&DATE(YEAR('Dashboard'!$A10),MONTH('Dashboard'!$A10)+1,1)) | C10: =SUMIFS('Plán likvidity'!$L$11:$L$110,'Plán likvidity'!$C$11:$C$110,"Výdavok",'Plán likvidity'!$B$11:$B$110,">="&'Dashboard'!$A10,'Plán likvidity'!$B$11:$B$110,"<"&DATE(YEAR('Dashboard'!$A10),MONTH('Dashboard'!$A10)+1,1)) | D10: =IFERROR('Dashboard'!B10-'Dashboard'!C10,0) | E10: ='Dashboard'!$F$9 | F10: =IFERROR('Dashboard'!E10+'Dashboard'!D10,0) | G10: ='Plán likvidity'!$B$4 | H10: =IFERROR('Dashboard'!F10-'Dashboard'!G10,0) | I10: =IF('Dashboard'!F10<'Dashboard'!G10,"Riziko nedostatku likvidity",IF('Dashboard'!F10<'Dashboard'!G10*1.2,"Sledovať","Stabilná likvidita")) | K10: Nájom | L10: =SUMIFS('Plán likvidity'!$L$11:$L$110,'Plán likvidity'!$C$11:$C$110,"Výdavok",'Plán likvidity'!$D$11:$D$110,'Dashboard'!K10)
A11: 46082 | B11: =SUMIFS('Plán likvidity'!$L$11:$L$110,'Plán likvidity'!$C$11:$C$110,"Príjem",'Plán likvidity'!$B$11:$B$110,">="&'Dashboard'!$A11,'Plán likvidity'!$B$11:$B$110,"<"&DATE(YEAR('Dashboard'!$A11),MONTH('Dashboard'!$A11)+1,1)) | C11: =SUMIFS('Plán likvidity'!$L$11:$L$110,'Plán likvidity'!$C$11:$C$110,"Výdavok",'Plán likvidity'!$B$11:$B$110,">="&'Dashboard'!$A11,'Plán likvidity'!$B$11:$B$110,"<"&DATE(YEAR('Dashboard'!$A11),MONTH('Dashboard'!$A11)+1,1)) | D11: =IFERROR('Dashboard'!B11-'Dashboard'!C11,0) | E11: ='Dashboard'!$F$10 | F11: =IFERROR('Dashboard'!E11+'Dashboard'!D11,0) | G11: ='Plán likvidity'!$B$4 | H11: =IFERROR('Dashboard'!F11-'Dashboard'!G11,0) | I11: =IF('Dashboard'!F11<'Dashboard'!G11,"Riziko nedostatku likvidity",IF('Dashboard'!F11<'Dashboard'!G11*1.2,"Sledovať","Stabilná likvidita")) | K11: Odvody | L11: =SUMIFS('Plán likvidity'!$L$11:$L$110,'Plán likvidity'!$C$11:$C$110,"Výdavok",'Plán likvidity'!$D$11:$D$110,'Dashboard'!K11)
A12: 46113 | B12: =SUMIFS('Plán likvidity'!$L$11:$L$110,'Plán likvidity'!$C$11:$C$110,"Príjem",'Plán likvidity'!$B$11:$B$110,">="&'Dashboard'!$A12,'Plán likvidity'!$B$11:$B$110,"<"&DATE(YEAR('Dashboard'!$A12),MONTH('Dashboard'!$A12)+1,1)) | C12: =SUMIFS('Plán likvidity'!$L$11:$L$110,'Plán likvidity'!$C$11:$C$110,"Výdavok",'Plán likvidity'!$B$11:$B$110,">="&'Dashboard'!$A12,'Plán likvidity'!$B$11:$B$110,"<"&DATE(YEAR('Dashboard'!$A12),MONTH('Dashboard'!$A12)+1,1)) | D12: =IFERROR('Dashboard'!B12-'Dashboard'!C12,0) | E12: ='Dashboard'!$F$11 | F12: =IFERROR('Dashboard'!E12+'Dashboard'!D12,0) | G12: ='Plán likvidity'!$B$4 | H12: =IFERROR('Dashboard'!F12-'Dashboard'!G12,0) | I12: =IF('Dashboard'!F12<'Dashboard'!G12,"Riziko nedostatku likvidity",IF('Dashboard'!F12<'Dashboard'!G12*1.2,"Sledovať","Stabilná likvidita")) | K12: Účtovníctvo | L12: =SUMIFS('Plán likvidity'!$L$11:$L$110,'Plán likvidity'!$C$11:$C$110,"Výdavok",'Plán likvidity'!$D$11:$D$110,'Dashboard'!K12)
A13: 46143 | B13: =SUMIFS('Plán likvidity'!$L$11:$L$110,'Plán likvidity'!$C$11:$C$110,"Príjem",'Plán likvidity'!$B$11:$B$110,">="&'Dashboard'!$A13,'Plán likvidity'!$B$11:$B$110,"<"&DATE(YEAR('Dashboard'!$A13),MONTH('Dashboard'!$A13)+1,1)) | C13: =SUMIFS('Plán likvidity'!$L$11:$L$110,'Plán likvidity'!$C$11:$C$110,"Výdavok",'Plán likvidity'!$B$11:$B$110,">="&'Dashboard'!$A13,'Plán likvidity'!$B$11:$B$110,"<"&DATE(YEAR('Dashboard'!$A13),MONTH('Dashboard'!$A13)+1,1)) | D13: =IFERROR('Dashboard'!B13-'Dashboard'!C13,0) | E13: ='Dashboard'!$F$12 | F13: =IFERROR('Dashboard'!E13+'Dashboard'!D13,0) | G13: ='Plán likvidity'!$B$4 | H13: =IFERROR('Dashboard'!F13-'Dashboard'!G13,0) | I13: =IF('Dashboard'!F13<'Dashboard'!G13,"Riziko nedostatku likvidity",IF('Dashboard'!F13<'Dashboard'!G13*1.2,"Sledovať","Stabilná likvidita")) | K13: Softvér | L13: =SUMIFS('Plán likvidity'!$L$11:$L$110,'Plán likvidity'!$C$11:$C$110,"Výdavok",'Plán likvidity'!$D$11:$D$110,'Dashboard'!K13)
A14: 46174 | B14: =SUMIFS('Plán likvidity'!$L$11:$L$110,'Plán likvidity'!$C$11:$C$110,"Príjem",'Plán likvidity'!$B$11:$B$110,">="&'Dashboard'!$A14,'Plán likvidity'!$B$11:$B$110,"<"&DATE(YEAR('Dashboard'!$A14),MONTH('Dashboard'!$A14)+1,1)) | C14: =SUMIFS('Plán likvidity'!$L$11:$L$110,'Plán likvidity'!$C$11:$C$110,"Výdavok",'Plán likvidity'!$B$11:$B$110,">="&'Dashboard'!$A14,'Plán likvidity'!$B$11:$B$110,"<"&DATE(YEAR('Dashboard'!$A14),MONTH('Dashboard'!$A14)+1,1)) | D14: =IFERROR('Dashboard'!B14-'Dashboard'!C14,0) | E14: ='Dashboard'!$F$13 | F14: =IFERROR('Dashboard'!E14+'Dashboard'!D14,0) | G14: ='Plán likvidity'!$B$4 | H14: =IFERROR('Dashboard'!F14-'Dashboard'!G14,0) | I14: =IF('Dashboard'!F14<'Dashboard'!G14,"Riziko nedostatku likvidity",IF('Dashboard'!F14<'Dashboard'!G14*1.2,"Sledovať","Stabilná likvidita")) | K14: Marketing | L14: =SUMIFS('Plán likvidity'!$L$11:$L$110,'Plán likvidity'!$C$11:$C$110,"Výdavok",'Plán likvidity'!$D$11:$D$110,'Dashboard'!K14)
A15: 46204 | B15: =SUMIFS('Plán likvidity'!$L$11:$L$110,'Plán likvidity'!$C$11:$C$110,"Príjem",'Plán likvidity'!$B$11:$B$110,">="&'Dashboard'!$A15,'Plán likvidity'!$B$11:$B$110,"<"&DATE(YEAR('Dashboard'!$A15),MONTH('Dashboard'!$A15)+1,1)) | C15: =SUMIFS('Plán likvidity'!$L$11:$L$110,'Plán likvidity'!$C$11:$C$110,"Výdavok",'Plán likvidity'!$B$11:$B$110,">="&'Dashboard'!$A15,'Plán likvidity'!$B$11:$B$110,"<"&DATE(YEAR('Dashboard'!$A15),MONTH('Dashboard'!$A15)+1,1)) | D15: =IFERROR('Dashboard'!B15-'Dashboard'!C15,0) | E15: ='Dashboard'!$F$14 | F15: =IFERROR('Dashboard'!E15+'Dashboard'!D15,0) | G15: ='Plán likvidity'!$B$4 | H15: =IFERROR('Dashboard'!F15-'Dashboard'!G15,0) | I15: =IF('Dashboard'!F15<'Dashboard'!G15,"Riziko nedostatku likvidity",IF('Dashboard'!F15<'Dashboard'!G15*1.2,"Sledovať","Stabilná likvidita")) | K15: Predaj tovaru | L15: =SUMIFS('Plán likvidity'!$L$11:$L$110,'Plán likvidity'!$C$11:$C$110,"Výdavok",'Plán likvidity'!$D$11:$D$110,'Dashboard'!K15)
A16: 46235 | B16: =SUMIFS('Plán likvidity'!$L$11:$L$110,'Plán likvidity'!$C$11:$C$110,"Príjem",'Plán likvidity'!$B$11:$B$110,">="&'Dashboard'!$A16,'Plán likvidity'!$B$11:$B$110,"<"&DATE(YEAR('Dashboard'!$A16),MONTH('Dashboard'!$A16)+1,1)) | C16: =SUMIFS('Plán likvidity'!$L$11:$L$110,'Plán likvidity'!$C$11:$C$110,"Výdavok",'Plán likvidity'!$B$11:$B$110,">="&'Dashboard'!$A16,'Plán likvidity'!$B$11:$B$110,"<"&DATE(YEAR('Dashboard'!$A16),MONTH('Dashboard'!$A16)+1,1)) | D16: =IFERROR('Dashboard'!B16-'Dashboard'!C16,0) | E16: ='Dashboard'!$F$15 | F16: =IFERROR('Dashboard'!E16+'Dashboard'!D16,0) | G16: ='Plán likvidity'!$B$4 | H16: =IFERROR('Dashboard'!F16-'Dashboard'!G16,0) | I16: =IF('Dashboard'!F16<'Dashboard'!G16,"Riziko nedostatku likvidity",IF('Dashboard'!F16<'Dashboard'!G16*1.2,"Sledovať","Stabilná likvidita")) | K16: Servisné služby | L16: =SUMIFS('Plán likvidity'!$L$11:$L$110,'Plán likvidity'!$C$11:$C$110,"Výdavok",'Plán likvidity'!$D$11:$D$110,'Dashboard'!K16)
A17: 46266 | B17: =SUMIFS('Plán likvidity'!$L$11:$L$110,'Plán likvidity'!$C$11:$C$110,"Príjem",'Plán likvidity'!$B$11:$B$110,">="&'Dashboard'!$A17,'Plán likvidity'!$B$11:$B$110,"<"&DATE(YEAR('Dashboard'!$A17),MONTH('Dashboard'!$A17)+1,1)) | C17: =SUMIFS('Plán likvidity'!$L$11:$L$110,'Plán likvidity'!$C$11:$C$110,"Výdavok",'Plán likvidity'!$B$11:$B$110,">="&'Dashboard'!$A17,'Plán likvidity'!$B$11:$B$110,"<"&DATE(YEAR('Dashboard'!$A17),MONTH('Dashboard'!$A17)+1,1)) | D17: =IFERROR('Dashboard'!B17-'Dashboard'!C17,0) | E17: ='Dashboard'!$F$16 | F17: =IFERROR('Dashboard'!E17+'Dashboard'!D17,0) | G17: ='Plán likvidity'!$B$4 | H17: =IFERROR('Dashboard'!F17-'Dashboard'!G17,0) | I17: =IF('Dashboard'!F17<'Dashboard'!G17,"Riziko nedostatku likvidity",IF('Dashboard'!F17<'Dashboard'!G17*1.2,"Sledovať","Stabilná likvidita"))
A18: 46296 | B18: =SUMIFS('Plán likvidity'!$L$11:$L$110,'Plán likvidity'!$C$11:$C$110,"Príjem",'Plán likvidity'!$B$11:$B$110,">="&'Dashboard'!$A18,'Plán likvidity'!$B$11:$B$110,"<"&DATE(YEAR('Dashboard'!$A18),MONTH('Dashboard'!$A18)+1,1)) | C18: =SUMIFS('Plán likvidity'!$L$11:$L$110,'Plán likvidity'!$C$11:$C$110,"Výdavok",'Plán likvidity'!$B$11:$B$110,">="&'Dashboard'!$A18,'Plán likvidity'!$B$11:$B$110,"<"&DATE(YEAR('Dashboard'!$A18),MONTH('Dashboard'!$A18)+1,1)) | D18: =IFERROR('Dashboard'!B18-'Dashboard'!C18,0) | E18: ='Dashboard'!$F$17 | F18: =IFERROR('Dashboard'!E18+'Dashboard'!D18,0) | G18: ='Plán likvidity'!$B$4 | H18: =IFERROR('Dashboard'!F18-'Dashboard'!G18,0) | I18: =IF('Dashboard'!F18<'Dashboard'!G18,"Riziko nedostatku likvidity",IF('Dashboard'!F18<'Dashboard'!G18*1.2,"Sledovať","Stabilná likvidita"))
A19: 46327 | B19: =SUMIFS('Plán likvidity'!$L$11:$L$110,'Plán likvidity'!$C$11:$C$110,"Príjem",'Plán likvidity'!$B$11:$B$110,">="&'Dashboard'!$A19,'Plán likvidity'!$B$11:$B$110,"<"&DATE(YEAR('Dashboard'!$A19),MONTH('Dashboard'!$A19)+1,1)) | C19: =SUMIFS('Plán likvidity'!$L$11:$L$110,'Plán likvidity'!$C$11:$C$110,"Výdavok",'Plán likvidity'!$B$11:$B$110,">="&'Dashboard'!$A19,'Plán likvidity'!$B$11:$B$110,"<"&DATE(YEAR('Dashboard'!$A19),MONTH('Dashboard'!$A19)+1,1)) | D19: =IFERROR('Dashboard'!B19-'Dashboard'!C19,0) | E19: ='Dashboard'!$F$18 | F19: =IFERROR('Dashboard'!E19+'Dashboard'!D19,0) | G19: ='Plán likvidity'!$B$4 | H19: =IFERROR('Dashboard'!F19-'Dashboard'!G19,0) | I19: =IF('Dashboard'!F19<'Dashboard'!G19,"Riziko nedostatku likvidity",IF('Dashboard'!F19<'Dashboard'!G19*1.2,"Sledovať","Stabilná likvidita"))
A20: 46357 | B20: =SUMIFS('Plán likvidity'!$L$11:$L$110,'Plán likvidity'!$C$11:$C$110,"Príjem",'Plán likvidity'!$B$11:$B$110,">="&'Dashboard'!$A20,'Plán likvidity'!$B$11:$B$110,"<"&DATE(YEAR('Dashboard'!$A20),MONTH('Dashboard'!$A20)+1,1)) | C20: =SUMIFS('Plán likvidity'!$L$11:$L$110,'Plán likvidity'!$C$11:$C$110,"Výdavok",'Plán likvidity'!$B$11:$B$110,">="&'Dashboard'!$A20,'Plán likvidity'!$B$11:$B$110,"<"&DATE(YEAR('Dashboard'!$A20),MONTH('Dashboard'!$A20)+1,1)) | D20: =IFERROR('Dashboard'!B20-'Dashboard'!C20,0) | E20: ='Dashboard'!$F$19 | F20: =IFERROR('Dashboard'!E20+'Dashboard'!D20,0) | G20: ='Plán likvidity'!$B$4 | H20: =IFERROR('Dashboard'!F20-'Dashboard'!G20,0) | I20: =IF('Dashboard'!F20<'Dashboard'!G20,"Riziko nedostatku likvidity",IF('Dashboard'!F20<'Dashboard'!G20*1.2,"Sledovať","Stabilná likvidita"))

Sheet Pokyny
A1: POKYNY NA POUŽÍVANIE PLÁNU LIKVIDITY
A3: Krok | B3: Pokyn
A4: 1 | B4: Žlté bunky sú vstupné údaje. Upravujte ich podľa svojho reálneho plánu.
A5: 2 | B5: Zadajte dátum splatnosti, typ pohybu, kategóriu, partnera, sumu bez DPH a stav úhrady.
A6: 3 | B6: DPH a suma s DPH sa vypočítajú automaticky podľa zvolenej sadzby DPH.
A7: 4 | B7: Príjmy zadávajte ako kladné pohyby. Výdavky sa vo vplyve na likviditu automaticky odpočítajú.
A8: 5 | B8: Kontrolujte upozornenia „Po splatnosti“ a stav likvidity na hárku Dashboard.
A9: 6 | B9: Štandardná sadzba DPH je 20 %. Pri vybraných plneniach možno použiť 10 % alebo 5 % podľa aktuálnych pravidiel Finančnej správy.
A13: Číselník kategórií | D13: Sadzby DPH
A15: Kategória | B15: Skupina | D15: Sadzba | E15: Poznámka
A16: Predaj tovaru | B16: Prevádzkové príjmy | D16: 0.2 | E16: Štandardná sadzba
A17: Servisné služby | B17: Prevádzkové príjmy | D17: 0.1 | E17: Znížená sadzba
A18: Mzdy | B18: Personálne náklady | D18: 0.05 | E18: Znížená sadzba
A19: Nájom | B19: Prevádzkové náklady
A20: Odvody | B20: Personálne náklady
A21: Účtovníctvo | B21: Prevádzkové náklady
A22: Softvér | B22: Prevádzkové náklady
A23: Marketing | B23: Obchod a marketing
A25: Poznámka | B25: Sadzby DPH a bezpečnostnú rezervu upravte podľa konkrétnej situácie firmy a overených aktuálnych pravidiel.
