Workbook

Sheet Mzdy 2026
A1: Výplatná páska – mesačné mzdy za obdobie 08/2026
A2: Sociálne odvody zamestnanca | B2: 0.094 | D2: Sadzba | E2: Hodnota | F2: Overená hodnota
A3: Zdravotné odvody zamestnanca | B3: 0.04 | D3: Sociálne odvody zamestnanca | E3: ='Mzdy 2026'!$B$2 | F3: =IFERROR(VLOOKUP('Mzdy 2026'!D3,'Mzdy 2026'!$D$3:$E$7,2,FALSE),0)
A4: Sociálne odvody zamestnávateľa | B4: 0.252 | D4: Zdravotné odvody zamestnanca | E4: ='Mzdy 2026'!$B$3 | F4: =IFERROR(VLOOKUP('Mzdy 2026'!D4,'Mzdy 2026'!$D$3:$E$7,2,FALSE),0)
A5: Zdravotné odvody zamestnávateľa | B5: 0.11 | D5: Sociálne odvody zamestnávateľa | E5: ='Mzdy 2026'!$B$4 | F5: =IFERROR(VLOOKUP('Mzdy 2026'!D5,'Mzdy 2026'!$D$3:$E$7,2,FALSE),0)
A6: Preddavok na daň | B6: 0.19 | D6: Zdravotné odvody zamestnávateľa | E6: ='Mzdy 2026'!$B$5 | F6: =IFERROR(VLOOKUP('Mzdy 2026'!D6,'Mzdy 2026'!$D$3:$E$7,2,FALSE),0)
A7: Nezdaniteľná časť mesačne | B7: 497.23 | D7: Preddavok na daň | E7: ='Mzdy 2026'!$B$6 | F7: =IFERROR(VLOOKUP('Mzdy 2026'!D7,'Mzdy 2026'!$D$3:$E$7,2,FALSE),0)
A8: Dátum výplaty | B8: 46280
A10: Počet miezd na vyplatenie | B10: =COUNTIF('Mzdy 2026'!$X$13:$X$112,"Na vyplatenie")
A12: Obdobie | B12: Meno a priezvisko | C12: Pracovná pozícia | D12: Mesto | E12: IČO zamestnávateľa | F12: Osobné číslo | G12: Hrubá mzda | H12: Odmeny a príplatky | I12: Náhrada mzdy | J12: Stravné – príspevok zamestnávateľa | K12: Nepeňažný príjem | L12: Celkový hrubý príjem | M12: Sociálne odvody zamestnanca | N12: Zdravotné odvody zamestnanca | O12: Nezdaniteľná časť základu dane | P12: Základ dane | Q12: Preddavok na daň | R12: Daňový bonus | S12: Zrážky zo mzdy | T12: Čistá mzda | U12: Sociálne odvody zamestnávateľa | V12: Zdravotné odvody zamestnávateľa | W12: Celková cena práce | X12: Stav výplaty
A13: 08/2026 | B13: Ján Novák | C13: účtovník | D13: Bratislava | E13: 51234567 | F13: 2026001 | G13: 1650 | H13: 0 | I13: 0 | J13: 110 | K13: 0 | L13: =IF($A13="","",SUM(G13:K13)) | M13: =IF($A13="","",L13*'Mzdy 2026'!$B$2) | N13: =IF($A13="","",L13*'Mzdy 2026'!$B$3) | O13: =IF($A13="","",'Mzdy 2026'!$B$7) | P13: =IF($A13="","",MAX(0,L13-M13-N13)) | Q13: =IF($A13="","",MAX(0,(P13-O13)*'Mzdy 2026'!$B$6-R13)) | R13: 0 | S13: 0 | T13: =IF($A13="","",L13-M13-N13-Q13-S13) | U13: =IF($A13="","",L13*'Mzdy 2026'!$B$4) | V13: =IF($A13="","",L13*'Mzdy 2026'!$B$5) | W13: =IF($A13="","",L13+U13+V13) | X13: =IF($A13="","",IF(T13>0,"Na vyplatenie","Skontrolovať"))
A14: 08/2026 | B14: Mária Kováčová | C14: administratívna pracovníčka | D14: Košice | E14: 51234567 | F14: 2026002 | G14: 1420 | H14: 50 | I14: 0 | J14: 110 | K14: 0 | L14: =IF($A14="","",SUM(G14:K14)) | M14: =IF($A14="","",L14*'Mzdy 2026'!$B$2) | N14: =IF($A14="","",L14*'Mzdy 2026'!$B$3) | O14: =IF($A14="","",'Mzdy 2026'!$B$7) | P14: =IF($A14="","",MAX(0,L14-M14-N14)) | Q14: =IF($A14="","",MAX(0,(P14-O14)*'Mzdy 2026'!$B$6-R14)) | R14: 80 | S14: 0 | T14: =IF($A14="","",L14-M14-N14-Q14-S14) | U14: =IF($A14="","",L14*'Mzdy 2026'!$B$4) | V14: =IF($A14="","",L14*'Mzdy 2026'!$B$5) | W14: =IF($A14="","",L14+U14+V14) | X14: =IF($A14="","",IF(T14>0,"Na vyplatenie","Skontrolovať"))
A15: 08/2026 | B15: Peter Horváth | C15: obchodný zástupca | D15: Žilina | E15: 51234567 | F15: 2026003 | G15: 1780 | H15: 320 | I15: 0 | J15: 110 | K15: 55 | L15: =IF($A15="","",SUM(G15:K15)) | M15: =IF($A15="","",L15*'Mzdy 2026'!$B$2) | N15: =IF($A15="","",L15*'Mzdy 2026'!$B$3) | O15: =IF($A15="","",'Mzdy 2026'!$B$7) | P15: =IF($A15="","",MAX(0,L15-M15-N15)) | Q15: =IF($A15="","",MAX(0,(P15-O15)*'Mzdy 2026'!$B$6-R15)) | R15: 0 | S15: 0 | T15: =IF($A15="","",L15-M15-N15-Q15-S15) | U15: =IF($A15="","",L15*'Mzdy 2026'!$B$4) | V15: =IF($A15="","",L15*'Mzdy 2026'!$B$5) | W15: =IF($A15="","",L15+U15+V15) | X15: =IF($A15="","",IF(T15>0,"Na vyplatenie","Skontrolovať"))
A16: 08/2026 | B16: Zuzana Tóthová | C16: personalistka | D16: Nitra | E16: 51234567 | F16: 2026004 | G16: 1590 | H16: 80 | I16: 0 | J16: 110 | K16: 0 | L16: =IF($A16="","",SUM(G16:K16)) | M16: =IF($A16="","",L16*'Mzdy 2026'!$B$2) | N16: =IF($A16="","",L16*'Mzdy 2026'!$B$3) | O16: =IF($A16="","",'Mzdy 2026'!$B$7) | P16: =IF($A16="","",MAX(0,L16-M16-N16)) | Q16: =IF($A16="","",MAX(0,(P16-O16)*'Mzdy 2026'!$B$6-R16)) | R16: 0 | S16: 0 | T16: =IF($A16="","",L16-M16-N16-Q16-S16) | U16: =IF($A16="","",L16*'Mzdy 2026'!$B$4) | V16: =IF($A16="","",L16*'Mzdy 2026'!$B$5) | W16: =IF($A16="","",L16+U16+V16) | X16: =IF($A16="","",IF(T16>0,"Na vyplatenie","Skontrolovať"))
A17: 08/2026 | B17: Martin Baláž | C17: IT špecialista | D17: Banská Bystrica | E17: 51234567 | F17: 2026005 | G17: 2450 | H17: 250 | I17: 0 | J17: 110 | K17: 120 | L17: =IF($A17="","",SUM(G17:K17)) | M17: =IF($A17="","",L17*'Mzdy 2026'!$B$2) | N17: =IF($A17="","",L17*'Mzdy 2026'!$B$3) | O17: =IF($A17="","",'Mzdy 2026'!$B$7) | P17: =IF($A17="","",MAX(0,L17-M17-N17)) | Q17: =IF($A17="","",MAX(0,(P17-O17)*'Mzdy 2026'!$B$6-R17)) | R17: 0 | S17: 0 | T17: =IF($A17="","",L17-M17-N17-Q17-S17) | U17: =IF($A17="","",L17*'Mzdy 2026'!$B$4) | V17: =IF($A17="","",L17*'Mzdy 2026'!$B$5) | W17: =IF($A17="","",L17+U17+V17) | X17: =IF($A17="","",IF(T17>0,"Na vyplatenie","Skontrolovať"))
A18: 08/2026 | B18: Katarína Hudáková | C18: recepčná | D18: Prešov | E18: 51234567 | F18: 2026006 | G18: 1180 | H18: 0 | I18: 60 | J18: 110 | K18: 0 | L18: =IF($A18="","",SUM(G18:K18)) | M18: =IF($A18="","",L18*'Mzdy 2026'!$B$2) | N18: =IF($A18="","",L18*'Mzdy 2026'!$B$3) | O18: =IF($A18="","",'Mzdy 2026'!$B$7) | P18: =IF($A18="","",MAX(0,L18-M18-N18)) | Q18: =IF($A18="","",MAX(0,(P18-O18)*'Mzdy 2026'!$B$6-R18)) | R18: 100 | S18: 0 | T18: =IF($A18="","",L18-M18-N18-Q18-S18) | U18: =IF($A18="","",L18*'Mzdy 2026'!$B$4) | V18: =IF($A18="","",L18*'Mzdy 2026'!$B$5) | W18: =IF($A18="","",L18+U18+V18) | X18: =IF($A18="","",IF(T18>0,"Na vyplatenie","Skontrolovať"))
A19: 08/2026 | B19: Lukáš Varga | C19: technik | D19: Trnava | E19: 51234567 | F19: 2026007 | G19: 1730 | H19: 120 | I19: 0 | J19: 110 | K19: 0 | L19: =IF($A19="","",SUM(G19:K19)) | M19: =IF($A19="","",L19*'Mzdy 2026'!$B$2) | N19: =IF($A19="","",L19*'Mzdy 2026'!$B$3) | O19: =IF($A19="","",'Mzdy 2026'!$B$7) | P19: =IF($A19="","",MAX(0,L19-M19-N19)) | Q19: =IF($A19="","",MAX(0,(P19-O19)*'Mzdy 2026'!$B$6-R19)) | R19: 0 | S19: 25 | T19: =IF($A19="","",L19-M19-N19-Q19-S19) | U19: =IF($A19="","",L19*'Mzdy 2026'!$B$4) | V19: =IF($A19="","",L19*'Mzdy 2026'!$B$5) | W19: =IF($A19="","",L19+U19+V19) | X19: =IF($A19="","",IF(T19>0,"Na vyplatenie","Skontrolovať"))
A20: 08/2026 | B20: Eva Šimková | C20: projektová manažérka | D20: Trenčín | E20: 51234567 | F20: 2026008 | G20: 2150 | H20: 180 | I20: 0 | J20: 110 | K20: 75 | L20: =IF($A20="","",SUM(G20:K20)) | M20: =IF($A20="","",L20*'Mzdy 2026'!$B$2) | N20: =IF($A20="","",L20*'Mzdy 2026'!$B$3) | O20: =IF($A20="","",'Mzdy 2026'!$B$7) | P20: =IF($A20="","",MAX(0,L20-M20-N20)) | Q20: =IF($A20="","",MAX(0,(P20-O20)*'Mzdy 2026'!$B$6-R20)) | R20: 0 | S20: 0 | T20: =IF($A20="","",L20-M20-N20-Q20-S20) | U20: =IF($A20="","",L20*'Mzdy 2026'!$B$4) | V20: =IF($A20="","",L20*'Mzdy 2026'!$B$5) | W20: =IF($A20="","",L20+U20+V20) | X20: =IF($A20="","",IF(T20>0,"Na vyplatenie","Skontrolovať"))
A21: 08/2026 | B21: Tomáš Rybár | C21: skladník | D21: Poprad | E21: 51234567 | F21: 2026009 | G21: 1260 | H21: 40 | I21: 0 | J21: 110 | K21: 0 | L21: =IF($A21="","",SUM(G21:K21)) | M21: =IF($A21="","",L21*'Mzdy 2026'!$B$2) | N21: =IF($A21="","",L21*'Mzdy 2026'!$B$3) | O21: =IF($A21="","",'Mzdy 2026'!$B$7) | P21: =IF($A21="","",MAX(0,L21-M21-N21)) | Q21: =IF($A21="","",MAX(0,(P21-O21)*'Mzdy 2026'!$B$6-R21)) | R21: 0 | S21: 0 | T21: =IF($A21="","",L21-M21-N21-Q21-S21) | U21: =IF($A21="","",L21*'Mzdy 2026'!$B$4) | V21: =IF($A21="","",L21*'Mzdy 2026'!$B$5) | W21: =IF($A21="","",L21+U21+V21) | X21: =IF($A21="","",IF(T21>0,"Na vyplatenie","Skontrolovať"))
L22: =IF($A22="","",SUM(G22:K22)) | M22: =IF($A22="","",L22*'Mzdy 2026'!$B$2) | N22: =IF($A22="","",L22*'Mzdy 2026'!$B$3) | O22: =IF($A22="","",'Mzdy 2026'!$B$7) | P22: =IF($A22="","",MAX(0,L22-M22-N22)) | Q22: =IF($A22="","",MAX(0,(P22-O22)*'Mzdy 2026'!$B$6-R22)) | T22: =IF($A22="","",L22-M22-N22-Q22-S22) | U22: =IF($A22="","",L22*'Mzdy 2026'!$B$4) | V22: =IF($A22="","",L22*'Mzdy 2026'!$B$5) | W22: =IF($A22="","",L22+U22+V22) | X22: =IF($A22="","",IF(T22>0,"Na vyplatenie","Skontrolovať"))
L23: =IF($A23="","",SUM(G23:K23)) | M23: =IF($A23="","",L23*'Mzdy 2026'!$B$2) | N23: =IF($A23="","",L23*'Mzdy 2026'!$B$3) | O23: =IF($A23="","",'Mzdy 2026'!$B$7) | P23: =IF($A23="","",MAX(0,L23-M23-N23)) | Q23: =IF($A23="","",MAX(0,(P23-O23)*'Mzdy 2026'!$B$6-R23)) | T23: =IF($A23="","",L23-M23-N23-Q23-S23) | U23: =IF($A23="","",L23*'Mzdy 2026'!$B$4) | V23: =IF($A23="","",L23*'Mzdy 2026'!$B$5) | W23: =IF($A23="","",L23+U23+V23) | X23: =IF($A23="","",IF(T23>0,"Na vyplatenie","Skontrolovať"))
L24: =IF($A24="","",SUM(G24:K24)) | M24: =IF($A24="","",L24*'Mzdy 2026'!$B$2) | N24: =IF($A24="","",L24*'Mzdy 2026'!$B$3) | O24: =IF($A24="","",'Mzdy 2026'!$B$7) | P24: =IF($A24="","",MAX(0,L24-M24-N24)) | Q24: =IF($A24="","",MAX(0,(P24-O24)*'Mzdy 2026'!$B$6-R24)) | T24: =IF($A24="","",L24-M24-N24-Q24-S24) | U24: =IF($A24="","",L24*'Mzdy 2026'!$B$4) | V24: =IF($A24="","",L24*'Mzdy 2026'!$B$5) | W24: =IF($A24="","",L24+U24+V24) | X24: =IF($A24="","",IF(T24>0,"Na vyplatenie","Skontrolovať"))
L25: =IF($A25="","",SUM(G25:K25)) | M25: =IF($A25="","",L25*'Mzdy 2026'!$B$2) | N25: =IF($A25="","",L25*'Mzdy 2026'!$B$3) | O25: =IF($A25="","",'Mzdy 2026'!$B$7) | P25: =IF($A25="","",MAX(0,L25-M25-N25)) | Q25: =IF($A25="","",MAX(0,(P25-O25)*'Mzdy 2026'!$B$6-R25)) | T25: =IF($A25="","",L25-M25-N25-Q25-S25) | U25: =IF($A25="","",L25*'Mzdy 2026'!$B$4) | V25: =IF($A25="","",L25*'Mzdy 2026'!$B$5) | W25: =IF($A25="","",L25+U25+V25) | X25: =IF($A25="","",IF(T25>0,"Na vyplatenie","Skontrolovať"))
L26: =IF($A26="","",SUM(G26:K26)) | M26: =IF($A26="","",L26*'Mzdy 2026'!$B$2) | N26: =IF($A26="","",L26*'Mzdy 2026'!$B$3) | O26: =IF($A26="","",'Mzdy 2026'!$B$7) | P26: =IF($A26="","",MAX(0,L26-M26-N26)) | Q26: =IF($A26="","",MAX(0,(P26-O26)*'Mzdy 2026'!$B$6-R26)) | T26: =IF($A26="","",L26-M26-N26-Q26-S26) | U26: =IF($A26="","",L26*'Mzdy 2026'!$B$4) | V26: =IF($A26="","",L26*'Mzdy 2026'!$B$5) | W26: =IF($A26="","",L26+U26+V26) | X26: =IF($A26="","",IF(T26>0,"Na vyplatenie","Skontrolovať"))
L27: =IF($A27="","",SUM(G27:K27)) | M27: =IF($A27="","",L27*'Mzdy 2026'!$B$2) | N27: =IF($A27="","",L27*'Mzdy 2026'!$B$3) | O27: =IF($A27="","",'Mzdy 2026'!$B$7) | P27: =IF($A27="","",MAX(0,L27-M27-N27)) | Q27: =IF($A27="","",MAX(0,(P27-O27)*'Mzdy 2026'!$B$6-R27)) | T27: =IF($A27="","",L27-M27-N27-Q27-S27) | U27: =IF($A27="","",L27*'Mzdy 2026'!$B$4) | V27: =IF($A27="","",L27*'Mzdy 2026'!$B$5) | W27: =IF($A27="","",L27+U27+V27) | X27: =IF($A27="","",IF(T27>0,"Na vyplatenie","Skontrolovať"))
L28: =IF($A28="","",SUM(G28:K28)) | M28: =IF($A28="","",L28*'Mzdy 2026'!$B$2) | N28: =IF($A28="","",L28*'Mzdy 2026'!$B$3) | O28: =IF($A28="","",'Mzdy 2026'!$B$7) | P28: =IF($A28="","",MAX(0,L28-M28-N28)) | Q28: =IF($A28="","",MAX(0,(P28-O28)*'Mzdy 2026'!$B$6-R28)) | T28: =IF($A28="","",L28-M28-N28-Q28-S28) | U28: =IF($A28="","",L28*'Mzdy 2026'!$B$4) | V28: =IF($A28="","",L28*'Mzdy 2026'!$B$5) | W28: =IF($A28="","",L28+U28+V28) | X28: =IF($A28="","",IF(T28>0,"Na vyplatenie","Skontrolovať"))
L29: =IF($A29="","",SUM(G29:K29)) | M29: =IF($A29="","",L29*'Mzdy 2026'!$B$2) | N29: =IF($A29="","",L29*'Mzdy 2026'!$B$3) | O29: =IF($A29="","",'Mzdy 2026'!$B$7) | P29: =IF($A29="","",MAX(0,L29-M29-N29)) | Q29: =IF($A29="","",MAX(0,(P29-O29)*'Mzdy 2026'!$B$6-R29)) | T29: =IF($A29="","",L29-M29-N29-Q29-S29) | U29: =IF($A29="","",L29*'Mzdy 2026'!$B$4) | V29: =IF($A29="","",L29*'Mzdy 2026'!$B$5) | W29: =IF($A29="","",L29+U29+V29) | X29: =IF($A29="","",IF(T29>0,"Na vyplatenie","Skontrolovať"))
L30: =IF($A30="","",SUM(G30:K30)) | M30: =IF($A30="","",L30*'Mzdy 2026'!$B$2) | N30: =IF($A30="","",L30*'Mzdy 2026'!$B$3) | O30: =IF($A30="","",'Mzdy 2026'!$B$7) | P30: =IF($A30="","",MAX(0,L30-M30-N30)) | Q30: =IF($A30="","",MAX(0,(P30-O30)*'Mzdy 2026'!$B$6-R30)) | T30: =IF($A30="","",L30-M30-N30-Q30-S30) | U30: =IF($A30="","",L30*'Mzdy 2026'!$B$4) | V30: =IF($A30="","",L30*'Mzdy 2026'!$B$5) | W30: =IF($A30="","",L30+U30+V30) | X30: =IF($A30="","",IF(T30>0,"Na vyplatenie","Skontrolovať"))
L31: =IF($A31="","",SUM(G31:K31)) | M31: =IF($A31="","",L31*'Mzdy 2026'!$B$2) | N31: =IF($A31="","",L31*'Mzdy 2026'!$B$3) | O31: =IF($A31="","",'Mzdy 2026'!$B$7) | P31: =IF($A31="","",MAX(0,L31-M31-N31)) | Q31: =IF($A31="","",MAX(0,(P31-O31)*'Mzdy 2026'!$B$6-R31)) | T31: =IF($A31="","",L31-M31-N31-Q31-S31) | U31: =IF($A31="","",L31*'Mzdy 2026'!$B$4) | V31: =IF($A31="","",L31*'Mzdy 2026'!$B$5) | W31: =IF($A31="","",L31+U31+V31) | X31: =IF($A31="","",IF(T31>0,"Na vyplatenie","Skontrolovať"))
L32: =IF($A32="","",SUM(G32:K32)) | M32: =IF($A32="","",L32*'Mzdy 2026'!$B$2) | N32: =IF($A32="","",L32*'Mzdy 2026'!$B$3) | O32: =IF($A32="","",'Mzdy 2026'!$B$7) | P32: =IF($A32="","",MAX(0,L32-M32-N32)) | Q32: =IF($A32="","",MAX(0,(P32-O32)*'Mzdy 2026'!$B$6-R32)) | T32: =IF($A32="","",L32-M32-N32-Q32-S32) | U32: =IF($A32="","",L32*'Mzdy 2026'!$B$4) | V32: =IF($A32="","",L32*'Mzdy 2026'!$B$5) | W32: =IF($A32="","",L32+U32+V32) | X32: =IF($A32="","",IF(T32>0,"Na vyplatenie","Skontrolovať"))
L33: =IF($A33="","",SUM(G33:K33)) | M33: =IF($A33="","",L33*'Mzdy 2026'!$B$2) | N33: =IF($A33="","",L33*'Mzdy 2026'!$B$3) | O33: =IF($A33="","",'Mzdy 2026'!$B$7) | P33: =IF($A33="","",MAX(0,L33-M33-N33)) | Q33: =IF($A33="","",MAX(0,(P33-O33)*'Mzdy 2026'!$B$6-R33)) | T33: =IF($A33="","",L33-M33-N33-Q33-S33) | U33: =IF($A33="","",L33*'Mzdy 2026'!$B$4) | V33: =IF($A33="","",L33*'Mzdy 2026'!$B$5) | W33: =IF($A33="","",L33+U33+V33) | X33: =IF($A33="","",IF(T33>0,"Na vyplatenie","Skontrolovať"))
... L112: =IF($A112="","",SUM(G112:K112)) | M112: =IF($A112="","",L112*'Mzdy 2026'!$B$2) | N112: =IF($A112="","",L112*'Mzdy 2026'!$B$3) | O112: =IF($A112="","",'Mzdy 2026'!$B$7) | P112: =IF($A112="","",MAX(0,L112-M112-N112)) | Q112: =IF($A112="","",MAX(0,(P112-O112)*'Mzdy 2026'!$B$6-R112)) | T112: =IF($A112="","",L112-M112-N112-Q112-S112) | U112: =IF($A112="","",L112*'Mzdy 2026'!$B$4) | V112: =IF($A112="","",L112*'Mzdy 2026'!$B$5) | W112: =IF($A112="","",L112+U112+V112) | X112: =IF($A112="","",IF(T112>0,"Na vyplatenie","Skontrolovať"))

Sheet Prehľad miezd
A1: Prehľad miezd – výplatné obdobie 08/2026
A3: Počet zamestnancov | B3: =COUNTA('Mzdy 2026'!$B$13:$B$112)
A4: Súčet hrubých miezd | B4: =SUM('Mzdy 2026'!$L$13:$L$112)
A5: Súčet čistých miezd | B5: =SUM('Mzdy 2026'!$T$13:$T$112)
A6: Priemerná hrubá mzda | B6: =IFERROR(AVERAGE('Mzdy 2026'!$L$13:$L$112),0)
A7: Celková cena práce | B7: =SUM('Mzdy 2026'!$W$13:$W$112)
A8: Počet miezd na vyplatenie | B8: =COUNTIF('Mzdy 2026'!$X$13:$X$112,"Na vyplatenie")
A10: Štruktúra mzdových nákladov | D10: Prehľad podľa pracovnej pozície | H10: Prehľad podľa mesta
A11: Položka | B11: Suma | D11: Pracovná pozícia | E11: Počet | F11: Súčet hrubých miezd | H11: Mesto | I11: Počet | J11: Celková cena práce
A12: Čisté mzdy | B12: =SUM('Mzdy 2026'!$T$13:$T$112) | D12: účtovník | E12: =COUNTIF('Mzdy 2026'!$C$13:$C$112,D12) | F12: =SUMIF('Mzdy 2026'!$C$13:$C$112,D12,'Mzdy 2026'!$L$13:$L$112) | H12: Bratislava | I12: =COUNTIF('Mzdy 2026'!$D$13:$D$112,H12) | J12: =SUMIF('Mzdy 2026'!$D$13:$D$112,H12,'Mzdy 2026'!$W$13:$W$112)
A13: Odvody zamestnanca | B13: =SUM('Mzdy 2026'!$M$13:$M$112,'Mzdy 2026'!$N$13:$N$112) | D13: administratívna pracovníčka | E13: =COUNTIF('Mzdy 2026'!$C$13:$C$112,D13) | F13: =SUMIF('Mzdy 2026'!$C$13:$C$112,D13,'Mzdy 2026'!$L$13:$L$112) | H13: Košice | I13: =COUNTIF('Mzdy 2026'!$D$13:$D$112,H13) | J13: =SUMIF('Mzdy 2026'!$D$13:$D$112,H13,'Mzdy 2026'!$W$13:$W$112)
A14: Preddavok na daň | B14: =SUM('Mzdy 2026'!$Q$13:$Q$112) | D14: obchodný zástupca | E14: =COUNTIF('Mzdy 2026'!$C$13:$C$112,D14) | F14: =SUMIF('Mzdy 2026'!$C$13:$C$112,D14,'Mzdy 2026'!$L$13:$L$112) | H14: Žilina | I14: =COUNTIF('Mzdy 2026'!$D$13:$D$112,H14) | J14: =SUMIF('Mzdy 2026'!$D$13:$D$112,H14,'Mzdy 2026'!$W$13:$W$112)
A15: Odvody zamestnávateľa | B15: =SUM('Mzdy 2026'!$U$13:$U$112,'Mzdy 2026'!$V$13:$V$112) | D15: personalistka | E15: =COUNTIF('Mzdy 2026'!$C$13:$C$112,D15) | F15: =SUMIF('Mzdy 2026'!$C$13:$C$112,D15,'Mzdy 2026'!$L$13:$L$112) | H15: Nitra | I15: =COUNTIF('Mzdy 2026'!$D$13:$D$112,H15) | J15: =SUMIF('Mzdy 2026'!$D$13:$D$112,H15,'Mzdy 2026'!$W$13:$W$112)
D16: IT špecialista | E16: =COUNTIF('Mzdy 2026'!$C$13:$C$112,D16) | F16: =SUMIF('Mzdy 2026'!$C$13:$C$112,D16,'Mzdy 2026'!$L$13:$L$112) | H16: Banská Bystrica | I16: =COUNTIF('Mzdy 2026'!$D$13:$D$112,H16) | J16: =SUMIF('Mzdy 2026'!$D$13:$D$112,H16,'Mzdy 2026'!$W$13:$W$112)
D17: recepčná | E17: =COUNTIF('Mzdy 2026'!$C$13:$C$112,D17) | F17: =SUMIF('Mzdy 2026'!$C$13:$C$112,D17,'Mzdy 2026'!$L$13:$L$112) | H17: Prešov | I17: =COUNTIF('Mzdy 2026'!$D$13:$D$112,H17) | J17: =SUMIF('Mzdy 2026'!$D$13:$D$112,H17,'Mzdy 2026'!$W$13:$W$112)
D18: technik | E18: =COUNTIF('Mzdy 2026'!$C$13:$C$112,D18) | F18: =SUMIF('Mzdy 2026'!$C$13:$C$112,D18,'Mzdy 2026'!$L$13:$L$112) | H18: Trnava | I18: =COUNTIF('Mzdy 2026'!$D$13:$D$112,H18) | J18: =SUMIF('Mzdy 2026'!$D$13:$D$112,H18,'Mzdy 2026'!$W$13:$W$112)
D19: projektová manažérka | E19: =COUNTIF('Mzdy 2026'!$C$13:$C$112,D19) | F19: =SUMIF('Mzdy 2026'!$C$13:$C$112,D19,'Mzdy 2026'!$L$13:$L$112) | H19: Trenčín | I19: =COUNTIF('Mzdy 2026'!$D$13:$D$112,H19) | J19: =SUMIF('Mzdy 2026'!$D$13:$D$112,H19,'Mzdy 2026'!$W$13:$W$112)
D20: skladník | E20: =COUNTIF('Mzdy 2026'!$C$13:$C$112,D20) | F20: =SUMIF('Mzdy 2026'!$C$13:$C$112,D20,'Mzdy 2026'!$L$13:$L$112) | H20: Poprad | I20: =COUNTIF('Mzdy 2026'!$D$13:$D$112,H20) | J20: =SUMIF('Mzdy 2026'!$D$13:$D$112,H20,'Mzdy 2026'!$W$13:$W$112)

Sheet Pokyny
A1: Pokyny k používaniu zošita
A3: Základné pokyny
A5: Žlté bunky slúžia na zadávanie údajov. Biele a jemne pruhované bunky obsahujú automatické výpočty.
A6: Hárok „Mzdy 2026“ obsahuje pripravených 100 riadkov pre mesačné výpočty. Každý riadok predstavuje jedného zamestnanca za konkrétne výplatné obdobie.
A7: Sadzby odvodov, sadzbu dane, nezdaniteľnú časť a dátum výplaty je potrebné overiť podľa aktuálnej legislatívy a metodických usmernení Finančnej správy.
A8: Pomocná tabuľka sadzieb v hornej časti hárka slúži na kontrolu zadaných percentuálnych sadzieb prostredníctvom funkcie VLOOKUP.
A9: Výplatná páska má obsahovať aj identifikačné údaje zamestnávateľa, IČO, DIČ, IČ DPH, pracovný pomer, počet odpracovaných hodín, dovolenku a podpisové náležitosti podľa interných potrieb.
A10: Hárok „Prehľad miezd“ obsahuje súhrnné ukazovatele, tabuľky podľa pracovných pozícií a miest a grafické prehľady mzdových nákladov.
A11: Zošit je vzor na evidenciu a výpočet. Pred použitím v praxi je potrebná kontrola mzdovou účtovníčkou alebo odborníkom na pracovnoprávne a daňové predpisy.
A12: Zošit neobsahuje ochranu hárkov, nastavenie tlače ani definované názvy.
